BEGIN:VCALENDAR
VERSION:2.0
PRODID:-//Associazione Musicale Rossini a.p.s. - Savona - ECPv6.15.11//NONSGML v1.0//EN
CALSCALE:GREGORIAN
METHOD:PUBLISH
X-WR-CALNAME:Associazione Musicale Rossini a.p.s. - Savona
X-ORIGINAL-URL:https://associazionerossini.it
X-WR-CALDESC:Eventi per Associazione Musicale Rossini a.p.s. - Savona
REFRESH-INTERVAL;VALUE=DURATION:PT1H
X-Robots-Tag:noindex
X-PUBLISHED-TTL:PT1H
BEGIN:VTIMEZONE
TZID:Europe/Rome
BEGIN:DAYLIGHT
TZOFFSETFROM:+0100
TZOFFSETTO:+0200
TZNAME:CEST
DTSTART:20220327T010000
END:DAYLIGHT
BEGIN:STANDARD
TZOFFSETFROM:+0200
TZOFFSETTO:+0100
TZNAME:CET
DTSTART:20221030T010000
END:STANDARD
BEGIN:DAYLIGHT
TZOFFSETFROM:+0100
TZOFFSETTO:+0200
TZNAME:CEST
DTSTART:20230326T010000
END:DAYLIGHT
BEGIN:STANDARD
TZOFFSETFROM:+0200
TZOFFSETTO:+0100
TZNAME:CET
DTSTART:20231029T010000
END:STANDARD
BEGIN:DAYLIGHT
TZOFFSETFROM:+0100
TZOFFSETTO:+0200
TZNAME:CEST
DTSTART:20240331T010000
END:DAYLIGHT
BEGIN:STANDARD
TZOFFSETFROM:+0200
TZOFFSETTO:+0100
TZNAME:CET
DTSTART:20241027T010000
END:STANDARD
BEGIN:DAYLIGHT
TZOFFSETFROM:+0100
TZOFFSETTO:+0200
TZNAME:CEST
DTSTART:20250330T010000
END:DAYLIGHT
BEGIN:STANDARD
TZOFFSETFROM:+0200
TZOFFSETTO:+0100
TZNAME:CET
DTSTART:20251026T010000
END:STANDARD
END:VTIMEZONE
BEGIN:VEVENT
DTSTART;TZID=Europe/Rome:20240229T170000
DTEND;TZID=Europe/Rome:20240229T170000
DTSTAMP:20260420T060648
CREATED:20240225T144406Z
LAST-MODIFIED:20240225T144406Z
UID:5942-1709226000-1709226000@associazionerossini.it
SUMMARY:Le conferenze della Rossini: La figura e l'opera di Luciano Berio
DESCRIPTION:
URL:https://associazionerossini.it/evento/le-conferenze-della-rossini-la-figura-e-lopera-di-luciano-berio/
LOCATION:Sala Stella Maris\, piazza Pippo Rebagliati\, 2\, Savona\, 17100\, Italia
CATEGORIES:Conferenza con audizione
END:VEVENT
BEGIN:VEVENT
DTSTART;TZID=Europe/Rome:20240228T173000
DTEND;TZID=Europe/Rome:20240228T173000
DTSTAMP:20260420T060648
CREATED:20240213T232653Z
LAST-MODIFIED:20240225T113648Z
UID:5900-1709141400-1709141400@associazionerossini.it
SUMMARY:Associazione Musicale Rossini - “Le Signore della Musica"(Silvia Schiaffino - flauto e Danilo Dellepiane - piano) [Sala Stella Maris - Savona]
DESCRIPTION:CV Silvia Schiaffino     CV Danilo Dellepiane      Note sul concerto      Programma
URL:https://associazionerossini.it/evento/associazione-musicale-rossini-le-signore-della-musica-silvia-schiaffino-flauto-e-danilo-dellepiane-piano-sala-stella-maris-savona/
LOCATION:Sala Stella Maris\, piazza Pippo Rebagliati\, 2\, Savona\, 17100\, Italia
CATEGORIES:Concerti
END:VEVENT
BEGIN:VEVENT
DTSTART;TZID=Europe/Rome:20240216T173000
DTEND;TZID=Europe/Rome:20240216T173000
DTSTAMP:20260420T060648
CREATED:20240202T135900Z
LAST-MODIFIED:20240211T164032Z
UID:5876-1708104600-1708104600@associazionerossini.it
SUMMARY:Associazione Musicale Rossini - Concerto del Ricordo (Sala Stella Maris - Savona)
DESCRIPTION:  \nProgramma                        CV_esecutori
URL:https://associazionerossini.it/evento/associazione-musicale-rossini-concerto-del-ricordo-sala-stella-maris-savona/
LOCATION:Sala Stella Maris\, piazza Pippo Rebagliati\, 2\, Savona\, 17100\, Italia
CATEGORIES:Concerti
END:VEVENT
BEGIN:VEVENT
DTSTART;TZID=Europe/Rome:20240213T170000
DTEND;TZID=Europe/Rome:20240213T170000
DTSTAMP:20260420T060648
CREATED:20240122T122714Z
LAST-MODIFIED:20240122T122714Z
UID:5828-1707843600-1707843600@associazionerossini.it
SUMMARY:Le conferenze della Rossini: Idomeneo di W.A.Mozart
DESCRIPTION:
URL:https://associazionerossini.it/evento/le-conferenze-della-rossini-idomeneo-di-w-a-mozart/
LOCATION:Sala Stella Maris\, piazza Pippo Rebagliati\, 2\, Savona\, 17100\, Italia
CATEGORIES:Conferenza
END:VEVENT
BEGIN:VEVENT
DTSTART;TZID=Europe/Rome:20240209T173000
DTEND;TZID=Europe/Rome:20240209T173000
DTSTAMP:20260420T060648
CREATED:20240125T225728Z
LAST-MODIFIED:20240125T225728Z
UID:5855-1707499800-1707499800@associazionerossini.it
SUMMARY:I pomeriggi della Mozart: “Clarinetto all’Opera”  Edoardo Piazzoli\, clarinetto - Livia Rigano\, pianoforte [Sala Stella Maris - Savona]
DESCRIPTION:CV EDOARDO PIAZZOLI      CV LIVIA RIGANO        PROGRAMMA        INFORMASZIONI E SPONSOR \n 
URL:https://associazionerossini.it/evento/i-pomeriggi-della-mozart-clarinetto-allopera-edoardo-piazzoli-clarinetto-livia-rigano-pianoforte-sala-stella-maris-savona/
LOCATION:Sala Stella Maris\, piazza Pippo Rebagliati\, 2\, Savona\, 17100\, Italia
CATEGORIES:Concerti
END:VEVENT
BEGIN:VEVENT
DTSTART;TZID=Europe/Rome:20240202T173000
DTEND;TZID=Europe/Rome:20240202T173000
DTSTAMP:20260420T060648
CREATED:20240123T131331Z
LAST-MODIFIED:20240129T171808Z
UID:5833-1706895000-1706895000@associazionerossini.it
SUMMARY:Associazione Musicale Rossini - Concerto di NAMASTE Clarinet Quintet (Sala Stella Maris - Savona)
DESCRIPTION:  \nPresentazione                                                  Programma                                           Le loro voci in musica: i testi          
URL:https://associazionerossini.it/evento/associazione-musicale-rossini-concerto-di-namaste-clarinet-quintet-sala-stella-maris-savona/
LOCATION:Sala Stella Maris\, piazza Pippo Rebagliati\, 2\, Savona\, 17100\, Italia
CATEGORIES:Concerti
END:VEVENT
BEGIN:VEVENT
DTSTART;TZID=Europe/Rome:20240201T170000
DTEND;TZID=Europe/Rome:20240201T170000
DTSTAMP:20260420T060648
CREATED:20240127T132417Z
LAST-MODIFIED:20240127T132457Z
UID:5869-1706806800-1706806800@associazionerossini.it
SUMMARY:Centro di Documentazione LOGOS\, Liceo Classico "Chiabrera"\, ANED Savona e Associazione Rossini  (Aula Magna del Liceo "Martini" - Savona)
DESCRIPTION:
URL:https://associazionerossini.it/evento/centro-di-documentazione-logos-liceo-classico-chiabrera-aned-savona-e-associazione-rossini-aula-magna-del-liceo-martini-savona/
CATEGORIES:Conferenza
END:VEVENT
BEGIN:VEVENT
DTSTART;TZID=Europe/Rome:20240127T160000
DTEND;TZID=Europe/Rome:20240127T160000
DTSTAMP:20260420T060648
CREATED:20240118T221240Z
LAST-MODIFIED:20240126T163238Z
UID:5819-1706371200-1706371200@associazionerossini.it
SUMMARY:Circolo Amici della Lirica "Renata Scotto" di Savona e Associazione Musicale Rossini  presentano: Maria Callas nel centenario della nascita (Sala Stella Maris - Savona)
DESCRIPTION: 
URL:https://associazionerossini.it/evento/circolo-amici-della-lirica-renata-scotto-di-savona-e-associazione-musicale-rossini-a-p-s-savona-maria-callas-nel-centenario-della-nascita-sala-stella-maris-savona/
LOCATION:Sala Stella Maris\, piazza Pippo Rebagliati\, 2\, Savona\, 17100\, Italia
CATEGORIES:Conferenza con audizione
END:VEVENT
BEGIN:VEVENT
DTSTART;TZID=Europe/Rome:20240126T173000
DTEND;TZID=Europe/Rome:20240126T173000
DTSTAMP:20260420T060648
CREATED:20240116T233450Z
LAST-MODIFIED:20240116T233450Z
UID:5800-1706290200-1706290200@associazionerossini.it
SUMMARY:I pomeriggi della Mozart: Sfumature di viola  (Duccio Beluffi\, viola - Ferdinando Baroffio\, pianoforte) [Sala Stella Maris - Savona]
DESCRIPTION:  \n  \n \nPROGRAMMA    CV DUCCIO BELUFFI    CV FERDINANDO BAROFFIO SPONSOR/INFORMAZIONI \n 
URL:https://associazionerossini.it/evento/i-pomeriggi-della-mozart-sfumature-di-viola-duccio-beluffi-viola-ferdinando-baroffio-pianoforte-sala-stella-maris-savona/
LOCATION:Sala Stella Maris\, piazza Pippo Rebagliati\, 2\, Savona\, 17100\, Italia
CATEGORIES:Concerti
END:VEVENT
BEGIN:VEVENT
DTSTART;TZID=Europe/Rome:20240125T173000
DTEND;TZID=Europe/Rome:20240125T173000
DTSTAMP:20260420T060648
CREATED:20240118T213441Z
LAST-MODIFIED:20240123T123558Z
UID:5811-1706203800-1706203800@associazionerossini.it
SUMMARY:ICIT Savona (Istituto di Cultura Italo-Tedesco) e Associazione Musicale Rossini presentano: Concerto di Joscha Zmarzlik (baritono) e Guido Bottaro (pianoforte) (Sala Stella Maris - Savona)
DESCRIPTION:                                         Presentazione
URL:https://associazionerossini.it/evento/icit-savona-istituto-di-cultura-italo-tedesco-sala-stella-maris-savona/
LOCATION:Sala Stella Maris\, piazza Pippo Rebagliati\, 2\, Savona\, 17100\, Italia
CATEGORIES:Concerti
END:VEVENT
BEGIN:VEVENT
DTSTART;TZID=Europe/Rome:20240119T173000
DTEND;TZID=Europe/Rome:20240119T173000
DTSTAMP:20260420T060648
CREATED:20240116T223038Z
LAST-MODIFIED:20240116T224311Z
UID:5783-1705685400-1705685400@associazionerossini.it
SUMMARY:I pomeriggi della Mozart: DUO GRANATO (Cristian Battaglioli Fiocca\, saxofono - Marco Rinaudo\, pianoforte) [Sala Stella Maris - Savona]
DESCRIPTION:  \n \n  \nProgramma       DUO GRANATO    CV C. Battaglioli    CV M. Rinaudo    Sponsor/informazioni
URL:https://associazionerossini.it/evento/i-pomeriggi-della-mozart-duo-granato-cristian-battaglioli-fiocca-saxofono-marco-rinaudo-pianoforte-sala-stella-maris-savona/
LOCATION:Sala Stella Maris\, piazza Pippo Rebagliati\, 2\, Savona\, 17100\, Italia
CATEGORIES:Concerti
END:VEVENT
BEGIN:VEVENT
DTSTART;TZID=Europe/Rome:20240118T173000
DTEND;TZID=Europe/Rome:20240118T173000
DTSTAMP:20260420T060648
CREATED:20240105T162053Z
LAST-MODIFIED:20240105T162053Z
UID:5773-1705599000-1705599000@associazionerossini.it
SUMMARY:Associazione Musicale Rossini - Concerto di Marcella Crudeli (Sala Stella Maris - Savona)
DESCRIPTION:  \n       Programma                                               CV Marcella Crudeli
URL:https://associazionerossini.it/evento/associazione-musicale-rossini-concerto-di-marcella-crudeli-sala-stella-maris-savona/
LOCATION:Sala Stella Maris\, piazza Pippo Rebagliati\, 2\, Savona\, 17100\, Italia
CATEGORIES:Concerti
END:VEVENT
BEGIN:VEVENT
DTSTART;TZID=Europe/Rome:20240112T173000
DTEND;TZID=Europe/Rome:20240112T173000
DTSTAMP:20260420T060648
CREATED:20240104T094049Z
LAST-MODIFIED:20240104T094049Z
UID:5761-1705080600-1705080600@associazionerossini.it
SUMMARY:Associazione Musicale Rossini - Concerto del Duo Laurino - Vieri (Sala Stella Maris - Savona)
DESCRIPTION:  \n \n  \nProgramma                              Cv Duo Laurino-Vieri   
URL:https://associazionerossini.it/evento/associazione-musicale-rossini-concerto-del-duo-laurino-vieri-sala-stella-maris-savona/
LOCATION:Sala Stella Maris\, piazza Pippo Rebagliati\, 2\, Savona\, 17100\, Italia
CATEGORIES:Concerti
END:VEVENT
BEGIN:VEVENT
DTSTART;TZID=Europe/Rome:20231215T173000
DTEND;TZID=Europe/Rome:20231215T173000
DTSTAMP:20260420T060648
CREATED:20231213T093845Z
LAST-MODIFIED:20231213T093845Z
UID:5749-1702661400-1702661400@associazionerossini.it
SUMMARY:I pomeriggi della Mozart: "Intorno a Bindi" Conversazione Musicale (Sala Stella Maris - Savona)
DESCRIPTION:
URL:https://associazionerossini.it/evento/i-pomeriggi-della-mozart-intorno-a-bindi-conversazione-musicale-sala-stella-maris-savona/
LOCATION:Sala Stella Maris\, piazza Pippo Rebagliati\, 2\, Savona\, 17100\, Italia
CATEGORIES:Conferenza,Conferenza con audizione
END:VEVENT
BEGIN:VEVENT
DTSTART;TZID=Europe/Rome:20231214T173000
DTEND;TZID=Europe/Rome:20231214T173000
DTSTAMP:20260420T060648
CREATED:20231201T181055Z
LAST-MODIFIED:20231203T215129Z
UID:5703-1702575000-1702575000@associazionerossini.it
SUMMARY:Associazione Musicale Rossini - Concerto dell'Ensemble Rossini (Sala Stella Maris - Savona)
DESCRIPTION:  \nProgramma                      Ensemble Rossini CV                           Messiaen
URL:https://associazionerossini.it/evento/associazione-musicale-rossini-concerto-dellensemble-rossini-sala-stella-maris-savona/
LOCATION:Sala Stella Maris\, piazza Pippo Rebagliati\, 2\, Savona\, 17100\, Italia
CATEGORIES:Concerti
END:VEVENT
BEGIN:VEVENT
DTSTART;TZID=Europe/Rome:20231205T170000
DTEND;TZID=Europe/Rome:20231205T170000
DTSTAMP:20260420T060648
CREATED:20231128T220120Z
LAST-MODIFIED:20231128T220125Z
UID:5729-1701795600-1701795600@associazionerossini.it
SUMMARY:Le conferenze della Rossini: Turandot e i suoi finali
DESCRIPTION:
URL:https://associazionerossini.it/evento/le-conferenze-della-rossini-turandot-e-i-suoi-finali/
LOCATION:Sala Stella Maris\, piazza Pippo Rebagliati\, 2\, Savona\, 17100\, Italia
CATEGORIES:Conferenza
END:VEVENT
BEGIN:VEVENT
DTSTART;TZID=Europe/Rome:20231128T170000
DTEND;TZID=Europe/Rome:20231128T170000
DTSTAMP:20260420T060648
CREATED:20231020T121446Z
LAST-MODIFIED:20231029T131455Z
UID:5446-1701190800-1701190800@associazionerossini.it
SUMMARY:Le conferenze della Rossini : "Puccini minore" e "La Rondine"
DESCRIPTION:
URL:https://associazionerossini.it/evento/le-conferenze-della-rossini/
LOCATION:Sala Stella Maris\, piazza Pippo Rebagliati\, 2\, Savona\, 17100\, Italia
CATEGORIES:Conferenza
END:VEVENT
BEGIN:VEVENT
DTSTART;TZID=Europe/Rome:20231124T173000
DTEND;TZID=Europe/Rome:20231124T173000
DTSTAMP:20260420T060648
CREATED:20231117T215556Z
LAST-MODIFIED:20231117T215619Z
UID:5711-1700847000-1700847000@associazionerossini.it
SUMMARY:I pomeriggi della Mozart: Duo Art Music Youkali [Sergio Bonetti (flauto) e Katia Caradonna (piano)] Sala Stella Maris - Savona
DESCRIPTION:  \nProgramma     CV artisti     Prenotazioni  
URL:https://associazionerossini.it/evento/i-pomeriggi-della-mozart-duo-art-music-youkali-sergio-bonetti-flauto-e-katia-caradonna-piano-sala-stella-maris-savona/
LOCATION:Sala Stella Maris\, piazza Pippo Rebagliati\, 2\, Savona\, 17100\, Italia
CATEGORIES:Concerti,Conferenza
END:VEVENT
BEGIN:VEVENT
DTSTART;TZID=Europe/Rome:20231123T173000
DTEND;TZID=Europe/Rome:20231123T173000
DTSTAMP:20260420T060648
CREATED:20231115T212332Z
LAST-MODIFIED:20231115T212332Z
UID:5688-1700760600-1700760600@associazionerossini.it
SUMMARY:Associazione Musicale Rossini - Savona: Concerto di Giorgio Costa (pianoforte) [Sala Stella Maris - Savona]
DESCRIPTION:Programma                                         Giorgio Costa CV
URL:https://associazionerossini.it/evento/associazione-musicale-rossini-savona-concerto-di-giorgio-costa-pianoforte-sala-stella-maris-savona/
LOCATION:Sala Stella Maris\, piazza Pippo Rebagliati\, 2\, Savona\, 17100\, Italia
CATEGORIES:Concerti
END:VEVENT
BEGIN:VEVENT
DTSTART;TZID=Europe/Rome:20231121T170000
DTEND;TZID=Europe/Rome:20231121T170000
DTSTAMP:20260420T060648
CREATED:20231020T130709Z
LAST-MODIFIED:20231028T171230Z
UID:5465-1700586000-1700586000@associazionerossini.it
SUMMARY:Le conferenze della Rossini: Puccini e "La fanciulla del West"
DESCRIPTION:
URL:https://associazionerossini.it/evento/le-conferenze-della-rossini-puccini-e-la-fanciulla-del-west/
LOCATION:Sala Stella Maris\, piazza Pippo Rebagliati\, 2\, Savona\, 17100\, Italia
CATEGORIES:Conferenza
END:VEVENT
BEGIN:VEVENT
DTSTART;TZID=Europe/Rome:20231117T173000
DTEND;TZID=Europe/Rome:20231117T173000
DTSTAMP:20260420T060648
CREATED:20231107T193519Z
LAST-MODIFIED:20231108T094144Z
UID:5654-1700242200-1700242200@associazionerossini.it
SUMMARY:I pomeriggi della Mozart: Marcello Rolff (pianoforte) ed Emanuele Calcagno (flauto) (Sala Stella Maris- Savona)
DESCRIPTION:  \nProgramma                           CV Rolff                        CV Calcagno
URL:https://associazionerossini.it/evento/i-pomeriggi-della-mozart-marcello-rolff-pianoforte-ed-emanuele-calcagno-flauto-sala-stella-maris-savona/
LOCATION:Sala Stella Maris\, piazza Pippo Rebagliati\, 2\, Savona\, 17100\, Italia
CATEGORIES:Concerti
END:VEVENT
BEGIN:VEVENT
DTSTART;TZID=Europe/Rome:20231116T173000
DTEND;TZID=Europe/Rome:20231116T173000
DTSTAMP:20260420T060648
CREATED:20231107T140834Z
LAST-MODIFIED:20231107T140843Z
UID:5642-1700155800-1700155800@associazionerossini.it
SUMMARY:Associazione Musicale Rossini - Savona: Concerto di "Genova Sinfonietta" [Sala Stella Maris - Savona]
DESCRIPTION:    \n  \nProgramma                                  Presentazione Genova Sinfonietta
URL:https://associazionerossini.it/evento/associazione-musicale-rossini-savona-concerto-di-genova-sinfonietta-sala-stella-maris-savona/
LOCATION:Sala Stella Maris\, piazza Pippo Rebagliati\, 2\, Savona\, 17100\, Italia
CATEGORIES:Concerti
END:VEVENT
BEGIN:VEVENT
DTSTART;TZID=Europe/Rome:20231114T170000
DTEND;TZID=Europe/Rome:20231114T170000
DTSTAMP:20260420T060648
CREATED:20231028T113958Z
LAST-MODIFIED:20231028T140937Z
UID:5500-1699981200-1699981200@associazionerossini.it
SUMMARY:Le conferenze della Rossini: Werther di J. Massenet
DESCRIPTION:
URL:https://associazionerossini.it/evento/le-conferenze-della-rossini-werther-di-j-massenet/
LOCATION:Sala Stella Maris\, piazza Pippo Rebagliati\, 2\, Savona\, 17100\, Italia
CATEGORIES:Conferenza
END:VEVENT
BEGIN:VEVENT
DTSTART;TZID=Europe/Rome:20231111T173000
DTEND;TZID=Europe/Rome:20231111T173000
DTSTAMP:20260420T060648
CREATED:20231106T185544Z
LAST-MODIFIED:20231106T185626Z
UID:5627-1699723800-1699723800@associazionerossini.it
SUMMARY:Associazione Musicale Rossini - Concerto del Quartetto Improvviso - Teatro Santa Rosa di Carcare
DESCRIPTION:  \n \n  \nProgramma                  Quartetto Improvviso CV
URL:https://associazionerossini.it/evento/associazione-musicale-rossini-concerto-del-quartetto-improvviso-teatro-santa-rosa-di-carcare/
LOCATION:Teatro “Santa Rosa” – Carcare\, Via Castellani 47\, Carcare\, 17043\, Italia
CATEGORIES:Concerti
END:VEVENT
BEGIN:VEVENT
DTSTART;TZID=Europe/Rome:20231104T173000
DTEND;TZID=Europe/Rome:20231104T173000
DTSTAMP:20260420T060648
CREATED:20231029T133705Z
LAST-MODIFIED:20231030T211328Z
UID:5533-1699119000-1699119000@associazionerossini.it
SUMMARY:L'Associazione Rossini e il Complesso Bandistico "A. Forzano" di Savona invitano la cittadinanza al concerto: "Musica in amicizia" - 2° edizione
DESCRIPTION:  \n    \nProgramma                                    La Banda e Antonio Forzano                                     Organigramma
URL:https://associazionerossini.it/evento/lassociazione-rossini-e-il-complesso-bandistico-a-forzano-di-savona-invitano-la-cittadinanza-al-concerto-amicizia-in-musica-nella-chiesa-di-s-andrea-savona-2/
LOCATION:Chiesa di S. Andrea – Savona\, piazza dei Consoli del Comune\, Savona\, Savona\, 17100\, Italia
CATEGORIES:Concerti
END:VEVENT
BEGIN:VEVENT
DTSTART;TZID=Europe/Rome:20231101T210000
DTEND;TZID=Europe/Rome:20231101T210000
DTSTAMP:20260420T060648
CREATED:20231028T141055Z
LAST-MODIFIED:20231030T095710Z
UID:5509-1698872400-1698872400@associazionerossini.it
SUMMARY:Associazione Musicale Rossini - "TENEBRAE"   (Chiesa di Sant'Andrea) - Savona
DESCRIPTION:  \n  \n  \nCv Marco Lombardi            CV Ensemble Molinaro       Informazioni sul programma          Programma \n 
URL:https://associazionerossini.it/evento/associazione-musicale-rossini-tenebrae-chiesa-di-santandrea-savona/
LOCATION:Chiesa di S. Andrea – Savona\, piazza dei Consoli del Comune\, Savona\, Savona\, 17100\, Italia
CATEGORIES:Concerti
END:VEVENT
BEGIN:VEVENT
DTSTART;TZID=Europe/Rome:20231027T173000
DTEND;TZID=Europe/Rome:20231027T173000
DTSTAMP:20260420T060648
CREATED:20231024T173029Z
LAST-MODIFIED:20231024T173029Z
UID:5481-1698427800-1698427800@associazionerossini.it
SUMMARY:I pomeriggi della Mozart: Ilaria Iaquinta (soprano) e Giacomo Serra (pianoforte): "I Canti dell'Anima" (Sala Stella Maris- Savona)
DESCRIPTION:  \n  \nCV Giacomo Serra       CV Ilaria Iaquinta       Programma       \nSponsor e altre notizie
URL:https://associazionerossini.it/evento/i-pomeriggi-della-mozart-ilaria-iaquinta-soprano-e-giacomo-serra-pianoforte-i-canti-dellanima-sala-stella-maris-savona/
LOCATION:Sala Stella Maris\, piazza Pippo Rebagliati\, 2\, Savona\, 17100\, Italia
CATEGORIES:Concerti
END:VEVENT
BEGIN:VEVENT
DTSTART;TZID=Europe/Rome:20231026T173000
DTEND;TZID=Europe/Rome:20231026T173000
DTSTAMP:20260420T060648
CREATED:20231018T145753Z
LAST-MODIFIED:20231018T145753Z
UID:5421-1698341400-1698341400@associazionerossini.it
SUMMARY:Associazione Musicale Rossini - Savona: "L'ARCILIUTO DA FRESCOBALDI A BACH" - Virginio Fadda   liutista [Sala Stella Maris - Savona]
DESCRIPTION:CV Virginio Fadda                      Programma \n       
URL:https://associazionerossini.it/evento/associazione-musicale-rossini-savona-larciliuto-da-frescobaldi-a-bach-virginio-fadda-liutista-sala-stella-maris-savona/
LOCATION:Sala Stella Maris\, piazza Pippo Rebagliati\, 2\, Savona\, 17100\, Italia
CATEGORIES:Concerti
END:VEVENT
BEGIN:VEVENT
DTSTART;TZID=Europe/Rome:20231019T173000
DTEND;TZID=Europe/Rome:20231019T173000
DTSTAMP:20260420T060648
CREATED:20231009T211035Z
LAST-MODIFIED:20231019T075207Z
UID:5328-1697736600-1697736600@associazionerossini.it
SUMMARY:Associazione Musicale Rossini - Savona: Concerto  "Trio di Torino" (Sergio Lamberto\, violino - Jacopo Di Tonno\, violoncello - Giacomo Fuga\, pianoforte [Sala Stella Maris - Savona]
DESCRIPTION:  Il TRIO DI TORINO                  CV Giacomo Fuga          CV Sergio Lamberto           CV Jacopo Di Tonno     \nProgramma
URL:https://associazionerossini.it/evento/associazione-musicale-rossini-savona-concerto-trio-di-torino-sergio-lamberto-violino-dario-destefano-violoncello-giacomo-fuga-pianoforte-sala-stella-maris-savona/
LOCATION:Sala Stella Maris\, piazza Pippo Rebagliati\, 2\, Savona\, 17100\, Italia
CATEGORIES:Concerti
END:VEVENT
BEGIN:VEVENT
DTSTART;TZID=Europe/Rome:20231014T170000
DTEND;TZID=Europe/Rome:20231014T170000
DTSTAMP:20260420T060648
CREATED:20231008T054539Z
LAST-MODIFIED:20231010T121048Z
UID:5308-1697302800-1697302800@associazionerossini.it
SUMMARY:Associazione Musicale Rossini - Savona: Concerto  ARS GRATIA ARTIS: duo Paola Esposito  (mandolino) e Francesca Ghilione (chitarra) [Sala Stella Maris - Savona]
DESCRIPTION:CV delle artiste       Programma
URL:https://associazionerossini.it/evento/associazione-musicale-g-rossini-savona-concerto-ars-gratia-artis-duo-paola-esposito-mandolino-e-francesca-ghilione-chitarra-sala-stella-maris-savona/
LOCATION:Sala Stella Maris\, piazza Pippo Rebagliati\, 2\, Savona\, 17100\, Italia
CATEGORIES:Concerti
END:VEVENT
END:VCALENDAR