BEGIN:VCALENDAR
VERSION:2.0
PRODID:-//Associazione Musicale Rossini a.p.s. - Savona - ECPv6.15.11//NONSGML v1.0//EN
CALSCALE:GREGORIAN
METHOD:PUBLISH
X-WR-CALNAME:Associazione Musicale Rossini a.p.s. - Savona
X-ORIGINAL-URL:https://associazionerossini.it
X-WR-CALDESC:Eventi per Associazione Musicale Rossini a.p.s. - Savona
REFRESH-INTERVAL;VALUE=DURATION:PT1H
X-Robots-Tag:noindex
X-PUBLISHED-TTL:PT1H
BEGIN:VTIMEZONE
TZID:Europe/Rome
BEGIN:DAYLIGHT
TZOFFSETFROM:+0100
TZOFFSETTO:+0200
TZNAME:CEST
DTSTART:20230326T010000
END:DAYLIGHT
BEGIN:STANDARD
TZOFFSETFROM:+0200
TZOFFSETTO:+0100
TZNAME:CET
DTSTART:20231029T010000
END:STANDARD
BEGIN:DAYLIGHT
TZOFFSETFROM:+0100
TZOFFSETTO:+0200
TZNAME:CEST
DTSTART:20240331T010000
END:DAYLIGHT
BEGIN:STANDARD
TZOFFSETFROM:+0200
TZOFFSETTO:+0100
TZNAME:CET
DTSTART:20241027T010000
END:STANDARD
BEGIN:DAYLIGHT
TZOFFSETFROM:+0100
TZOFFSETTO:+0200
TZNAME:CEST
DTSTART:20250330T010000
END:DAYLIGHT
BEGIN:STANDARD
TZOFFSETFROM:+0200
TZOFFSETTO:+0100
TZNAME:CET
DTSTART:20251026T010000
END:STANDARD
BEGIN:DAYLIGHT
TZOFFSETFROM:+0100
TZOFFSETTO:+0200
TZNAME:CEST
DTSTART:20260329T010000
END:DAYLIGHT
BEGIN:STANDARD
TZOFFSETFROM:+0200
TZOFFSETTO:+0100
TZNAME:CET
DTSTART:20261025T010000
END:STANDARD
END:VTIMEZONE
BEGIN:VEVENT
DTSTART;TZID=Europe/Rome:20250204T173000
DTEND;TZID=Europe/Rome:20250204T173000
DTSTAMP:20260420T013424
CREATED:20250126T111325Z
LAST-MODIFIED:20250126T111328Z
UID:6464-1738690200-1738690200@associazionerossini.it
SUMMARY:Associazione Musicale Rossini - Concerto di Stefano Occhipinti (pianoforte)
DESCRIPTION:  \n \nProgramma                                                      CV_Occhipinti
URL:https://associazionerossini.it/evento/associazione-musicale-rossini-concerto-di-stefano-occhipinti-pianoforte/
LOCATION:Sala Stella Maris\, piazza Pippo Rebagliati\, 2\, Savona\, 17100\, Italia
CATEGORIES:Concerti
END:VEVENT
BEGIN:VEVENT
DTSTART;TZID=Europe/Rome:20250130T173000
DTEND;TZID=Europe/Rome:20250130T173000
DTSTAMP:20260420T013424
CREATED:20250109T081729Z
LAST-MODIFIED:20250128T123327Z
UID:6436-1738258200-1738258200@associazionerossini.it
SUMMARY:Associazione Musicale Rossini - Concerto di Davide Alogna (violino) e Andrea Bacchetti (pianoforte)
DESCRIPTION:  \nProgramma                                                                        CV_Alogna               CV_Bacchetti
URL:https://associazionerossini.it/evento/associazione-musicale-rossini-davide-alogna-violino-andrea-bacchetti-pianoforte/
LOCATION:Sala Stella Maris\, piazza Pippo Rebagliati\, 2\, Savona\, 17100\, Italia
CATEGORIES:Concerti
END:VEVENT
BEGIN:VEVENT
DTSTART;TZID=Europe/Rome:20250123T173000
DTEND;TZID=Europe/Rome:20250123T173000
DTSTAMP:20260420T013424
CREATED:20250102T093029Z
LAST-MODIFIED:20250121T123327Z
UID:6425-1737653400-1737653400@associazionerossini.it
SUMMARY:Associazione Musicale Rossini - Concerto di Thomas Petrucci (chitarra)
DESCRIPTION:  \nCV_Petrucci                                  Programma
URL:https://associazionerossini.it/evento/associazione-musicale-rossini-concerto-di-thomas-petrucci-chitarra/
LOCATION:Sala Stella Maris\, piazza Pippo Rebagliati\, 2\, Savona\, 17100\, Italia
CATEGORIES:Concerti
END:VEVENT
BEGIN:VEVENT
DTSTART;TZID=Europe/Rome:20250116T173000
DTEND;TZID=Europe/Rome:20250116T173000
DTSTAMP:20260420T013424
CREATED:20250108T110749Z
LAST-MODIFIED:20250108T110754Z
UID:6439-1737048600-1737048600@associazionerossini.it
SUMMARY:Associazione Musicale Rossini - Concerto di Alessandro Baldini (pianoforte)
DESCRIPTION:Programma                                                CV_Baldini
URL:https://associazionerossini.it/evento/associazione-musicale-rossini-concerto-di-alessandro-baldini-pianoforte/
LOCATION:Sala Stella Maris\, piazza Pippo Rebagliati\, 2\, Savona\, 17100\, Italia
CATEGORIES:Concerti
END:VEVENT
BEGIN:VEVENT
DTSTART;TZID=Europe/Rome:20241214T173000
DTEND;TZID=Europe/Rome:20241214T173000
DTSTAMP:20260420T013424
CREATED:20241201T074526Z
LAST-MODIFIED:20241201T074530Z
UID:6393-1734197400-1734197400@associazionerossini.it
SUMMARY:Associazione Musicale Rossini - Concerto di Francesco Mazzonetto (pianoforte)
DESCRIPTION:  \nProgramma                                                         CV_Mazzonetto
URL:https://associazionerossini.it/evento/associazione-musicale-rossini-concerto-di-francesco-mazzonetto-pianoforte/
LOCATION:Sala Stella Maris\, piazza Pippo Rebagliati\, 2\, Savona\, 17100\, Italia
CATEGORIES:Concerti
END:VEVENT
BEGIN:VEVENT
DTSTART;TZID=Europe/Rome:20241205T173000
DTEND;TZID=Europe/Rome:20241205T173000
DTSTAMP:20260420T013424
CREATED:20241121T091336Z
LAST-MODIFIED:20241130T133931Z
UID:6379-1733419800-1733419800@associazionerossini.it
SUMMARY:Associazione Musicale Rossini - Concerto di Laura Guatti (flauto) e Loris Orlando (pianoforte)
DESCRIPTION:  \nProgramma                                    CV_artisti
URL:https://associazionerossini.it/evento/associazione-musicale-rossini-concerto-di-laura-guatti-flauto-e-loris-orlando-pianoforte/
LOCATION:Sala Stella Maris\, piazza Pippo Rebagliati\, 2\, Savona\, 17100\, Italia
CATEGORIES:Concerti
END:VEVENT
BEGIN:VEVENT
DTSTART;TZID=Europe/Rome:20241129T203000
DTEND;TZID=Europe/Rome:20241129T203000
DTSTAMP:20260420T013424
CREATED:20241111T190748Z
LAST-MODIFIED:20241114T094810Z
UID:6352-1732912200-1732912200@associazionerossini.it
SUMMARY:Associazione Musicale Rossini - Concerto di Eloisa Cascio (pianoforte)
DESCRIPTION:Programma                                                          CV_Cascio
URL:https://associazionerossini.it/evento/associazione-musicale-rossini-concerto-di-eloisa-cascio-pianoforte/
LOCATION:Sala Stella Maris\, piazza Pippo Rebagliati\, 2\, Savona\, 17100\, Italia
CATEGORIES:Concerti
END:VEVENT
BEGIN:VEVENT
DTSTART;TZID=Europe/Rome:20241119T173000
DTEND;TZID=Europe/Rome:20241119T173000
DTSTAMP:20260420T013424
CREATED:20241108T130830Z
LAST-MODIFIED:20241111T181631Z
UID:6324-1732037400-1732037400@associazionerossini.it
SUMMARY:Associazione Musicale Rossini - Concerto Duo pianistico Alessandro Delfino e Franco Giacosa
DESCRIPTION:  \nProgramma                                             CV_artisti
URL:https://associazionerossini.it/evento/associazione-musicale-rossini-concerto-duo-pianistico-alessandro-delfino-e-franco-giacosa/
LOCATION:Sala Stella Maris\, piazza Pippo Rebagliati\, 2\, Savona\, 17100\, Italia
CATEGORIES:Concerti
END:VEVENT
BEGIN:VEVENT
DTSTART;TZID=Europe/Rome:20241114T173000
DTEND;TZID=Europe/Rome:20241114T173000
DTSTAMP:20260420T013424
CREATED:20241006T160053Z
LAST-MODIFIED:20241111T185803Z
UID:6300-1731605400-1731605400@associazionerossini.it
SUMMARY:Associazione Musicale Rossini - Concerto di Giovanni Battista Costa (clarinetto) e Alberto Pavani (pianoforte)
DESCRIPTION:Programma                                                       CV_artisti
URL:https://associazionerossini.it/evento/associazione-musicale-rossini-concerto-di-giovanni-battista-costa-clarinetto-e-alberto-pavani-pianoforte/
LOCATION:Sala Stella Maris\, piazza Pippo Rebagliati\, 2\, Savona\, 17100\, Italia
CATEGORIES:Concerti
END:VEVENT
BEGIN:VEVENT
DTSTART;TZID=Europe/Rome:20241107T173000
DTEND;TZID=Europe/Rome:20241107T173000
DTSTAMP:20260420T013424
CREATED:20241006T154743Z
LAST-MODIFIED:20241006T154749Z
UID:6284-1731000600-1731000600@associazionerossini.it
SUMMARY:Associazione Musicale Rossini - Concerto di Ai Watanabe (pianoforte)
DESCRIPTION:Programma                                                                CV_Watanabe \n                                                       \n 
URL:https://associazionerossini.it/evento/associazione-musicale-rossini-concerto-di-ai-watanabe-pianoforte/
LOCATION:Sala Stella Maris\, piazza Pippo Rebagliati\, 2\, Savona\, 17100\, Italia
CATEGORIES:Concerti
END:VEVENT
BEGIN:VEVENT
DTSTART;TZID=Europe/Rome:20241026T210000
DTEND;TZID=Europe/Rome:20241026T210000
DTSTAMP:20260420T013424
CREATED:20241020T113017Z
LAST-MODIFIED:20241020T113017Z
UID:6314-1729976400-1729976400@associazionerossini.it
SUMMARY:Associazione Musicale Rossini - Concerto della Corale Polifonica Cellese - Eleonora Molinari (direttrice) - Marco Milano (organista)
DESCRIPTION:  \nProgramma          CV_Corale Cellese         Elenco coristi per voce
URL:https://associazionerossini.it/evento/associazione-musicale-rossini-concerto-della-corale-polifonica-cellese-eleonora-molinari-direttrice-marco-milano-organista/
LOCATION:Chiesa di S. Andrea – Savona\, piazza dei Consoli del Comune\, Savona\, Savona\, 17100\, Italia
CATEGORIES:Concerti
END:VEVENT
BEGIN:VEVENT
DTSTART;TZID=Europe/Rome:20241010T173000
DTEND;TZID=Europe/Rome:20241010T173000
DTSTAMP:20260420T013424
CREATED:20240911T140352Z
LAST-MODIFIED:20240911T151531Z
UID:6236-1728581400-1728581400@associazionerossini.it
SUMMARY:Associazione Musicale Rossini - Concerto di Dina Pysarenko (pianoforte)
DESCRIPTION:  \nProgramma                     CV_Pysarenko
URL:https://associazionerossini.it/evento/associazione-musicale-rossini-dina-pysarenko-pianoforte/
LOCATION:Sala Stella Maris\, piazza Pippo Rebagliati\, 2\, Savona\, 17100\, Italia
CATEGORIES:Concerti
END:VEVENT
BEGIN:VEVENT
DTSTART;TZID=Europe/Rome:20241008T173000
DTEND;TZID=Europe/Rome:20241008T173000
DTSTAMP:20260420T013424
CREATED:20240911T151422Z
LAST-MODIFIED:20240911T151422Z
UID:6244-1728408600-1728408600@associazionerossini.it
SUMMARY:Le conferenze della Rossini: introduzione a "The turn of the screw" di H. James e di B. Britten
DESCRIPTION:
URL:https://associazionerossini.it/evento/le-conferenze-della-rossini-introduzione-a-the-turn-of-the-screw-di-h-james-e-di-b-britten/
LOCATION:Sala Stella Maris\, piazza Pippo Rebagliati\, 2\, Savona\, 17100\, Italia
CATEGORIES:Conferenza
END:VEVENT
BEGIN:VEVENT
DTSTART;TZID=Europe/Rome:20240926T203000
DTEND;TZID=Europe/Rome:20240926T203000
DTSTAMP:20260420T013424
CREATED:20240908T164806Z
LAST-MODIFIED:20240910T132825Z
UID:6226-1727382600-1727382600@associazionerossini.it
SUMMARY:Associazione Musicale Rossini - Concerto/spettacolo con Cinzia Bartoli ed Enrico Bonavera
DESCRIPTION:Presentazione_programma_CV
URL:https://associazionerossini.it/evento/associazione-musicale-rossini-concerto-spettacolo-con-cinzia-bartoli-ed-enrico-bonavera/
LOCATION:Sala Stella Maris\, piazza Pippo Rebagliati\, 2\, Savona\, 17100\, Italia
CATEGORIES:Concerti
END:VEVENT
BEGIN:VEVENT
DTSTART;TZID=Europe/Rome:20240925T173000
DTEND;TZID=Europe/Rome:20240925T173000
DTSTAMP:20260420T013424
CREATED:20240921T074103Z
LAST-MODIFIED:20240921T074334Z
UID:6253-1727285400-1727285400@associazionerossini.it
SUMMARY:Associazione Musicale Rossini - presentazione libro di Fabio Patrone
DESCRIPTION:
URL:https://associazionerossini.it/evento/lassociazione-rossini-presenta/
LOCATION:Sala Stella Maris\, piazza Pippo Rebagliati\, 2\, Savona\, 17100\, Italia
CATEGORIES:Presentazione Libro
END:VEVENT
BEGIN:VEVENT
DTSTART;TZID=Europe/Rome:20240919T173000
DTEND;TZID=Europe/Rome:20240919T173000
DTSTAMP:20260420T013424
CREATED:20240908T164001Z
LAST-MODIFIED:20240917T100139Z
UID:6215-1726767000-1726767000@associazionerossini.it
SUMMARY:Associazione Musicale Rossini - presentazione della Stagione Concertistica 24/25 - Fabrizio Fusco (chitarra classica)
DESCRIPTION:        \n  \nCV_Fusco                         Programma
URL:https://associazionerossini.it/evento/associazione-musicale-rossini-presentazione-della-stagione-concertistica-24-25-fabrizio-fusco-chitarra-classica/
LOCATION:Sala Stella Maris\, piazza Pippo Rebagliati\, 2\, Savona\, 17100\, Italia
CATEGORIES:Concerti
END:VEVENT
BEGIN:VEVENT
DTSTART;TZID=Europe/Rome:20240811T054500
DTEND;TZID=Europe/Rome:20240811T054500
DTSTAMP:20260420T013424
CREATED:20240809T085432Z
LAST-MODIFIED:20240809T155255Z
UID:6202-1723355100-1723355100@associazionerossini.it
SUMMARY:Associazione Musicale Rossini - Concerto all'alba - Scaletto dei Pescatori - Fornaci (SV)
DESCRIPTION:Programma e presentazione Ensemble Rossini
URL:https://associazionerossini.it/evento/associazione-musicale-rossini-concerto-allalba-scaletto-dei-pescatori-fornaci-sv/
LOCATION:Scaletto dei Pescatori\, Corso Vittorio Veneto\, Savona\, 17100\, Italia
CATEGORIES:Concerti
END:VEVENT
BEGIN:VEVENT
DTSTART;TZID=Europe/Rome:20240625T210000
DTEND;TZID=Europe/Rome:20240625T210000
DTSTAMP:20260420T013424
CREATED:20240608T090417Z
LAST-MODIFIED:20240620T131403Z
UID:6166-1719349200-1719349200@associazionerossini.it
SUMMARY:Associazione Musicale Rossini - Concerto del Gruppo Mala Hora - Centro Polifunzionale di Carcare
DESCRIPTION:Mala Hora press kit                Programma                Massone_CV     Nappi_CV      Dariy_CV \n  \n 
URL:https://associazionerossini.it/evento/associazione-musicale-rossini-concerto-del-gruppo-mala-hora-societa-operaia-di-carcare-s-m-s/
LOCATION:Centro Polifunzionale di Carcare\, Via del Collegio\, Carcare (Savona)\, 17043\, Italia
CATEGORIES:Concerti
END:VEVENT
BEGIN:VEVENT
DTSTART;TZID=Europe/Rome:20240613T210000
DTEND;TZID=Europe/Rome:20240613T210000
DTSTAMP:20260420T013424
CREATED:20240606T185218Z
LAST-MODIFIED:20240608T071847Z
UID:6159-1718312400-1718312400@associazionerossini.it
SUMMARY:Associazione Musicale Rossini - Concerto dell'Ensemble Rossini (Sala Stella Maris - Savona)
DESCRIPTION:  \n  \n  \n \nProgramma                                                   CV_artisti
URL:https://associazionerossini.it/evento/associazione-musicale-rossini-concerto-dellensemble-rossini-sala-stella-maris-savona-3/
LOCATION:Sala Stella Maris\, piazza Pippo Rebagliati\, 2\, Savona\, 17100\, Italia
CATEGORIES:Concerti
END:VEVENT
BEGIN:VEVENT
DTSTART;TZID=Europe/Rome:20240610T170000
DTEND;TZID=Europe/Rome:20240610T170000
DTSTAMP:20260420T013424
CREATED:20240522T155547Z
LAST-MODIFIED:20240522T155808Z
UID:6151-1718038800-1718038800@associazionerossini.it
SUMMARY:L'Associazione Rossini organizza un incontro con  Patrizia Petruccione e Riccardo Aicardi
DESCRIPTION:
URL:https://associazionerossini.it/evento/lassociazione-rossini-organizza-un-incontro-con-patrizia-petruccione-e-riccardo-aicardi/
LOCATION:Sala Stella Maris\, piazza Pippo Rebagliati\, 2\, Savona\, 17100\, Italia
CATEGORIES:Presentazione Libro
END:VEVENT
BEGIN:VEVENT
DTSTART;TZID=Europe/Rome:20240604T170000
DTEND;TZID=Europe/Rome:20240604T170000
DTSTAMP:20260420T013424
CREATED:20240505T174147Z
LAST-MODIFIED:20240505T174147Z
UID:6118-1717520400-1717520400@associazionerossini.it
SUMMARY:Le conferenze della Rossini: introduzione a "Il Trittico" di Giacomo Puccini
DESCRIPTION:
URL:https://associazionerossini.it/evento/le-conferenze-della-rossini-introduzione-a-il-trittico-di-giacomo-puccini/
LOCATION:Sala Stella Maris\, piazza Pippo Rebagliati\, 2\, Savona\, 17100\, Italia
CATEGORIES:Conferenza
END:VEVENT
BEGIN:VEVENT
DTSTART;TZID=Europe/Rome:20240515T173000
DTEND;TZID=Europe/Rome:20240515T173000
DTSTAMP:20260420T013424
CREATED:20240504T222907Z
LAST-MODIFIED:20240504T222907Z
UID:6139-1715794200-1715794200@associazionerossini.it
SUMMARY:Angeli della Musica: Concerto di solidarietà di Giovani Allievi e Maestre dell'Accademia Musicale di Odessa - Sala Stella Maris - Savona
DESCRIPTION: 
URL:https://associazionerossini.it/evento/angeli-della-musica-concerto-di-solidarieta-di-giovani-allievi-e-maestre-dellaccademia-musicale-di-odessa-sala-stella-maris-savona/
LOCATION:Sala Stella Maris\, piazza Pippo Rebagliati\, 2\, Savona\, 17100\, Italia
CATEGORIES:Concerti
END:VEVENT
BEGIN:VEVENT
DTSTART;TZID=Europe/Rome:20240514T170000
DTEND;TZID=Europe/Rome:20240514T170000
DTSTAMP:20260420T013424
CREATED:20240505T174118Z
LAST-MODIFIED:20240508T190042Z
UID:6116-1715706000-1715706000@associazionerossini.it
SUMMARY:Le conferenze della Rossini: introduzione a "Il Corsaro" di Giuseppe Verdi
DESCRIPTION:
URL:https://associazionerossini.it/evento/le-conferenze-della-rossini-introduzione-a-il-corsaro-di-giuseppe-verdi/
LOCATION:Sala Stella Maris\, piazza Pippo Rebagliati\, 2\, Savona\, 17100\, Italia
CATEGORIES:Conferenza
END:VEVENT
BEGIN:VEVENT
DTSTART;TZID=Europe/Rome:20240511T173000
DTEND;TZID=Europe/Rome:20240511T173000
DTSTAMP:20260420T013424
CREATED:20240424T192402Z
LAST-MODIFIED:20240501T171508Z
UID:6090-1715448600-1715448600@associazionerossini.it
SUMMARY:Associazione Musicale Rossini - Cinzia Bartoli (pianoforte) (Sala Stella Maris) - Savona
DESCRIPTION:  \nProgramma                                            CV_Bartoli
URL:https://associazionerossini.it/evento/associazione-musicale-rossini-cinzia-bartoli-pianoforte-sala-stella-maris-savona/
LOCATION:Sala Stella Maris\, piazza Pippo Rebagliati\, 2\, Savona\, 17100\, Italia
CATEGORIES:Concerti
END:VEVENT
BEGIN:VEVENT
DTSTART;TZID=Europe/Rome:20240509T173000
DTEND;TZID=Europe/Rome:20240509T173000
DTSTAMP:20260420T013424
CREATED:20240424T192222Z
LAST-MODIFIED:20240509T084646Z
UID:6085-1715275800-1715275800@associazionerossini.it
SUMMARY:Associazione Musicale Rossini: un après-midi musical (Silvia Schiaffino [flauto] - Filippo Falchero [pianoforte]) Sala Stella Maris - Savona
DESCRIPTION:PROGRAMMA          CV musicisti
URL:https://associazionerossini.it/evento/associazione-musicale-rossini-silvia-schiaffino-flauto-filippo-falchero-pianoforte-sala-stella-maris-savona/
LOCATION:Sala Stella Maris\, piazza Pippo Rebagliati\, 2\, Savona\, 17100\, Italia
CATEGORIES:Concerti
END:VEVENT
BEGIN:VEVENT
DTSTART;TZID=Europe/Rome:20240423T170000
DTEND;TZID=Europe/Rome:20240423T170000
DTSTAMP:20260420T013424
CREATED:20240418T174028Z
LAST-MODIFIED:20240418T174028Z
UID:6073-1713891600-1713891600@associazionerossini.it
SUMMARY:L'Associazione Rossini organizza un incontro con Vincenzo Parisi
DESCRIPTION:Biografia Parisi                                                               Presentazione incontro \n                                                                                    \n 
URL:https://associazionerossini.it/evento/lassociazione-rossini-organizza-un-incontro-con-vincenzo-parisi/
LOCATION:Sala Stella Maris\, piazza Pippo Rebagliati\, 2\, Savona\, 17100\, Italia
CATEGORIES:Conferenza
END:VEVENT
BEGIN:VEVENT
DTSTART;TZID=Europe/Rome:20240420T173000
DTEND;TZID=Europe/Rome:20240420T173000
DTSTAMP:20260420T013424
CREATED:20240412T095817Z
LAST-MODIFIED:20240412T095817Z
UID:6065-1713634200-1713634200@associazionerossini.it
SUMMARY:Associazione Musicale Rossini - Duo pianistico a 4 mani Fiorenza Bucciarelli - Lucio Cuomo (Sala Stella Maris - Savona
DESCRIPTION:  \nCV_artisti                                                  Programma
URL:https://associazionerossini.it/evento/associazione-musicale-rossini-duo-pianistico-a-4-mani-fiorenza-bucciarelli-lucio-cuomo-sala-stella-maris-savona/
LOCATION:Sala Stella Maris\, piazza Pippo Rebagliati\, 2\, Savona\, 17100\, Italia
CATEGORIES:Concerti
END:VEVENT
BEGIN:VEVENT
DTSTART;TZID=Europe/Rome:20240409T173000
DTEND;TZID=Europe/Rome:20240409T173000
DTSTAMP:20260420T013424
CREATED:20240403T141540Z
LAST-MODIFIED:20240403T141704Z
UID:6051-1712683800-1712683800@associazionerossini.it
SUMMARY:Associazione Musicale Rossini - Trio "Sonata Barocca" - Giovanni Sardo (violino barocco) - Cécile Peyrot (violoncello barocco) - Mauro Borri (spinetta italiana) (Sala Stella Maris - Savona)
DESCRIPTION:  \nProgramma                                                          CV_artisti
URL:https://associazionerossini.it/evento/associazione-musicale-rossini-trio-sonata-barocca-giovanni-sardo-violino-barocco-cecile-peyrot-violoncello-barocco-auro-borri-spinetta-italiana-sala-stella-maris-savona/
LOCATION:Sala Stella Maris\, piazza Pippo Rebagliati\, 2\, Savona\, 17100\, Italia
CATEGORIES:Concerti
END:VEVENT
BEGIN:VEVENT
DTSTART;TZID=Europe/Rome:20240404T170000
DTEND;TZID=Europe/Rome:20240404T170000
DTSTAMP:20260420T013424
CREATED:20240330T104607Z
LAST-MODIFIED:20240330T104607Z
UID:6042-1712250000-1712250000@associazionerossini.it
SUMMARY:Le conferenze della Rossini: La musica americana del Novecento e le opere di Aaron Copland
DESCRIPTION:
URL:https://associazionerossini.it/evento/le-conferenze-della-rossini-la-musica-americana-del-novecento-e-le-opere-di-aaron-copland/
LOCATION:Sala Stella Maris\, piazza Pippo Rebagliati\, 2\, Savona\, 17100\, Italia
CATEGORIES:Conferenza
END:VEVENT
BEGIN:VEVENT
DTSTART;TZID=Europe/Rome:20240328T173000
DTEND;TZID=Europe/Rome:20240328T173000
DTSTAMP:20260420T013424
CREATED:20240322T072841Z
LAST-MODIFIED:20240326T082417Z
UID:6026-1711647000-1711647000@associazionerossini.it
SUMMARY:Associazione Musicale Rossini - Roberto Ranfaldi (violino) - Andrea Bacchetti (pianoforte)  (Sala Stella Maris - Savona)
DESCRIPTION:  \n  \nProgramma                                                    CV_Ranfaldi                                                   CV_Bacchetti
URL:https://associazionerossini.it/evento/associazione-musicale-rossini-roberto-ranfaldi-violino-andrea-bacchetti-pianoforte-sala-stella-maris-savona/
LOCATION:Sala Stella Maris\, piazza Pippo Rebagliati\, 2\, Savona\, 17100\, Italia
CATEGORIES:Concerti
END:VEVENT
END:VCALENDAR