BEGIN:VCALENDAR
VERSION:2.0
PRODID:-//Associazione Musicale Rossini a.p.s. - Savona - ECPv6.15.11//NONSGML v1.0//EN
CALSCALE:GREGORIAN
METHOD:PUBLISH
X-WR-CALNAME:Associazione Musicale Rossini a.p.s. - Savona
X-ORIGINAL-URL:https://associazionerossini.it
X-WR-CALDESC:Eventi per Associazione Musicale Rossini a.p.s. - Savona
REFRESH-INTERVAL;VALUE=DURATION:PT1H
X-Robots-Tag:noindex
X-PUBLISHED-TTL:PT1H
BEGIN:VTIMEZONE
TZID:Europe/Rome
BEGIN:DAYLIGHT
TZOFFSETFROM:+0100
TZOFFSETTO:+0200
TZNAME:CEST
DTSTART:20240331T010000
END:DAYLIGHT
BEGIN:STANDARD
TZOFFSETFROM:+0200
TZOFFSETTO:+0100
TZNAME:CET
DTSTART:20241027T010000
END:STANDARD
BEGIN:DAYLIGHT
TZOFFSETFROM:+0100
TZOFFSETTO:+0200
TZNAME:CEST
DTSTART:20250330T010000
END:DAYLIGHT
BEGIN:STANDARD
TZOFFSETFROM:+0200
TZOFFSETTO:+0100
TZNAME:CET
DTSTART:20251026T010000
END:STANDARD
BEGIN:DAYLIGHT
TZOFFSETFROM:+0100
TZOFFSETTO:+0200
TZNAME:CEST
DTSTART:20260329T010000
END:DAYLIGHT
BEGIN:STANDARD
TZOFFSETFROM:+0200
TZOFFSETTO:+0100
TZNAME:CET
DTSTART:20261025T010000
END:STANDARD
END:VTIMEZONE
BEGIN:VEVENT
DTSTART;TZID=Europe/Rome:20251130T210000
DTEND;TZID=Europe/Rome:20251130T210000
DTSTAMP:20260420T043101
CREATED:20251127T191157Z
LAST-MODIFIED:20251127T191253Z
UID:7188-1764536400-1764536400@associazionerossini.it
SUMMARY:per la festa di S. Andrea: "I concerti sacri di Duke Ellington" eseguiti dalla Rapalline Jazz Band diretta da Riccardo Zegna
DESCRIPTION:PROGRAMMA         \nDuke Ellington       Riccardo Zegna       La Band \nSponsor
URL:https://associazionerossini.it/evento/per-la-festa-di-s-andrea-i-concerti-sacri-di-duke-ellington-eseguiti-dalla-rapalline-jazz-band-diretta-da-riccardo-zegna/
LOCATION:Chiesa di S. Andrea – Savona\, piazza dei Consoli del Comune\, Savona\, Savona\, 17100\, Italia
CATEGORIES:Concerti
END:VEVENT
BEGIN:VEVENT
DTSTART;TZID=Europe/Rome:20251127T173000
DTEND;TZID=Europe/Rome:20251127T173000
DTSTAMP:20260420T043101
CREATED:20250928T121313Z
LAST-MODIFIED:20251124T120834Z
UID:7025-1764264600-1764264600@associazionerossini.it
SUMMARY:Associazione Musicale Rossini: concerto di Cinzia Bartoli (pianoforte)
DESCRIPTION:Programma                      CV_Bartoli
URL:https://associazionerossini.it/evento/associazione-musicale-rossini-concerto-di-cinzia-bartoli-pianoforte/
LOCATION:Sala Stella Maris\, piazza Pippo Rebagliati\, 2\, Savona\, 17100\, Italia
CATEGORIES:Concerti
END:VEVENT
BEGIN:VEVENT
DTSTART;TZID=Europe/Rome:20251120T173000
DTEND;TZID=Europe/Rome:20251120T173000
DTSTAMP:20260420T043101
CREATED:20250928T120245Z
LAST-MODIFIED:20251118T090747Z
UID:7017-1763659800-1763659800@associazionerossini.it
SUMMARY:Associazione Musicale Rossini: concerto di Cordelia Loughlin (soprano) e Lilia Yakushin (pianoforte)
DESCRIPTION:Programma                        CV_Loughlin      CV_Yakushin
URL:https://associazionerossini.it/evento/associazione-musicale-rossini-concerto-di-cordelia-loughlin-soprano-e-lilia-yakushin-pianoforte-2/
LOCATION:Sala Stella Maris\, piazza Pippo Rebagliati\, 2\, Savona\, 17100\, Italia
CATEGORIES:Concerti
END:VEVENT
BEGIN:VEVENT
DTSTART;TZID=Europe/Rome:20251113T173000
DTEND;TZID=Europe/Rome:20251113T173000
DTSTAMP:20260420T043101
CREATED:20250928T121121Z
LAST-MODIFIED:20251111T075908Z
UID:7020-1763055000-1763055000@associazionerossini.it
SUMMARY:Associazione Musicale Rossini: "Musica e Medicina: un duetto infinito" incontro-concerto a cura di ASSFAD
DESCRIPTION:
URL:https://associazionerossini.it/evento/associazione-musicale-rossini-musica-e-medicina-un-duetto-infinito-incontro-concerto-a-cura-di-assfad/
LOCATION:Sala Stella Maris\, piazza Pippo Rebagliati\, 2\, Savona\, 17100\, Italia
CATEGORIES:Concerti,Conferenza
END:VEVENT
BEGIN:VEVENT
DTSTART;TZID=Europe/Rome:20251106T173000
DTEND;TZID=Europe/Rome:20251106T173000
DTSTAMP:20260420T043101
CREATED:20250928T120006Z
LAST-MODIFIED:20251026T103947Z
UID:7015-1762450200-1762450200@associazionerossini.it
SUMMARY:Associazione Musicale Rossini: concerto di Ismaele Bauccio (pianoforte)
DESCRIPTION:  \nProgramma       CV_Bauccio
URL:https://associazionerossini.it/evento/associazione-musicale-rossini-concerto-di-ismaele-bauccio-pianoforte/
LOCATION:Sala Stella Maris\, piazza Pippo Rebagliati\, 2\, Savona\, 17100\, Italia
CATEGORIES:Concerti
END:VEVENT
BEGIN:VEVENT
DTSTART;TZID=Europe/Rome:20251030T173000
DTEND;TZID=Europe/Rome:20251030T173000
DTSTAMP:20260420T043101
CREATED:20250928T115800Z
LAST-MODIFIED:20251026T102933Z
UID:7013-1761845400-1761845400@associazionerossini.it
SUMMARY:Associazione Musicale Rossini: concerto di Ai Watanabe (pianoforte)
DESCRIPTION:Curriculum                                   Programma \n 
URL:https://associazionerossini.it/evento/associazione-musicale-rossini-concerto-di-ai-watanabe-pianoforte-2/
LOCATION:Sala Stella Maris\, piazza Pippo Rebagliati\, 2\, Savona\, 17100\, Italia
CATEGORIES:Concerti
END:VEVENT
BEGIN:VEVENT
DTSTART;TZID=Europe/Rome:20251016T173000
DTEND;TZID=Europe/Rome:20251016T173000
DTSTAMP:20260420T043101
CREATED:20250928T115637Z
LAST-MODIFIED:20251013T101419Z
UID:7009-1760635800-1760635800@associazionerossini.it
SUMMARY:Associazione Musicale Rossini: concerto di Gaia Gaibazzi (clarinetto ) e Clarissa Carafa(pianoforte)
DESCRIPTION:  \n \n  \nPROGRAMMA \nCV CLARISSA CARAFA         CV GAIA GAIBAZZI \n  \nMENTORI E MUSE \n 
URL:https://associazionerossini.it/evento/associazione-musicale-rossini-concerto-di-gaia-gaibazzi-clarinetto-e-clarissa-carafapianoforte/
LOCATION:Sala Stella Maris\, piazza Pippo Rebagliati\, 2\, Savona\, 17100\, Italia
CATEGORIES:Concerti
END:VEVENT
BEGIN:VEVENT
DTSTART;TZID=Europe/Rome:20251009T173000
DTEND;TZID=Europe/Rome:20251009T173000
DTSTAMP:20260420T043101
CREATED:20250927T093328Z
LAST-MODIFIED:20251005T082106Z
UID:6999-1760031000-1760031000@associazionerossini.it
SUMMARY:Associazione Musicale Rossini: "Dall'Opera al Swing" con Giampiero Sobrino (clarinetto ) e Andrea Bacchetti (pianoforte)
DESCRIPTION:  \nCV Giampiero Sobrino   CV Andrea Bacchetti         \nProgramma       
URL:https://associazionerossini.it/evento/associazione-musicale-rossini-dallopera-al-swing-con-giampiero-sobrino-clarinetto-e-andrea-bacchetti-pianoforte/
LOCATION:Sala Stella Maris\, piazza Pippo Rebagliati\, 2\, Savona\, 17100\, Italia
CATEGORIES:Concerti
END:VEVENT
BEGIN:VEVENT
DTSTART;TZID=Europe/Rome:20250918T173000
DTEND;TZID=Europe/Rome:20250918T173000
DTSTAMP:20260420T043101
CREATED:20250831T102241Z
LAST-MODIFIED:20250831T122305Z
UID:6981-1758216600-1758216600@associazionerossini.it
SUMMARY:Associazione Musicale Rossini in collaborazione con l'Associazione Culturale "Pasquale Anfossi": concerto del pianista Marcello Rolff
DESCRIPTION:  \nPROGRAMMA                       CV Marcello Rolff                   Associazione Anfossi
URL:https://associazionerossini.it/evento/associazione-musicale-rossini-in-collaborazione-con-lasociazione-culturale-pasquale-anfossi-concerto-del-pianista-marcello-rolff/
LOCATION:Sala Stella Maris\, piazza Pippo Rebagliati\, 2\, Savona\, 17100\, Italia
CATEGORIES:Concerti
END:VEVENT
BEGIN:VEVENT
DTSTART;TZID=Europe/Rome:20250609T173000
DTEND;TZID=Europe/Rome:20250609T173000
DTSTAMP:20260420T043101
CREATED:20250603T063539Z
LAST-MODIFIED:20250603T063543Z
UID:6864-1749490200-1749490200@associazionerossini.it
SUMMARY:Associazione Musicale Rossini: concerto di Anita Frumento ed Elena Buttiero (pianoforte a quattro mani)
DESCRIPTION:Programma                                                                      CV_artiste
URL:https://associazionerossini.it/evento/associazione-musicale-rossini-concerto-di-anita-frumento-ed-elena-buttiero-pianoforte-a-quattro-mani/
LOCATION:Sala Stella Maris\, piazza Pippo Rebagliati\, 2\, Savona\, 17100\, Italia
CATEGORIES:Concerti
END:VEVENT
BEGIN:VEVENT
DTSTART;TZID=Europe/Rome:20250606T173000
DTEND;TZID=Europe/Rome:20250606T173000
DTSTAMP:20260420T043101
CREATED:20250601T131408Z
LAST-MODIFIED:20250601T131411Z
UID:6855-1749231000-1749231000@associazionerossini.it
SUMMARY:Associazione Musicale Rossini: concerto di Marcella Crudeli e Loris Orlando (pianoforte a quattro mani)
DESCRIPTION:              Programma                                                            CV_artisti
URL:https://associazionerossini.it/evento/associazione-musicale-rossini-concerto-di-marcella-crudeli-e-loris-orlando-pianoforte-a-quattro-mani/
LOCATION:Sala Stella Maris\, piazza Pippo Rebagliati\, 2\, Savona\, 17100\, Italia
CATEGORIES:Concerti
END:VEVENT
BEGIN:VEVENT
DTSTART;TZID=Europe/Rome:20250522T173000
DTEND;TZID=Europe/Rome:20250522T173000
DTSTAMP:20260420T043101
CREATED:20250517T080109Z
LAST-MODIFIED:20250517T080112Z
UID:6845-1747935000-1747935000@associazionerossini.it
SUMMARY:Associazione Musicale Rossini: concerto dell' Ensemble Rossini
DESCRIPTION:   Programma                                                                                CV_artisti
URL:https://associazionerossini.it/evento/associazione-musicale-rossini-concerto-dell-ensemble-rossini/
LOCATION:Sala Stella Maris\, piazza Pippo Rebagliati\, 2\, Savona\, 17100\, Italia
CATEGORIES:Concerti
END:VEVENT
BEGIN:VEVENT
DTSTART;TZID=Europe/Rome:20250517T210000
DTEND;TZID=Europe/Rome:20250517T210000
DTSTAMP:20260420T043101
CREATED:20250513T101457Z
LAST-MODIFIED:20250513T180740Z
UID:6831-1747515600-1747515600@associazionerossini.it
SUMMARY:Associazione Musicale Rossini: concerto del Coro Polifonico di Valleggia -  Maurizio Fiaschi (direttore) - Andrea Ravazzano (organo)
DESCRIPTION:Presentazione Coro Polifonico di Valleggia           Programma              CV_Fiaschi               CV_Ravazzano
URL:https://associazionerossini.it/evento/associazione-musicale-rossini-concerto-del-coro-polifonico-di-valleggia-maurizio-fiaschi-direttore-andrea-ravazzano-organo/
LOCATION:Chiesa di S. Andrea – Savona\, piazza dei Consoli del Comune\, Savona\, Savona\, 17100\, Italia
CATEGORIES:Concerti
END:VEVENT
BEGIN:VEVENT
DTSTART;TZID=Europe/Rome:20250515T173000
DTEND;TZID=Europe/Rome:20250515T173000
DTSTAMP:20260420T043101
CREATED:20250509T083933Z
LAST-MODIFIED:20250509T114854Z
UID:6817-1747330200-1747330200@associazionerossini.it
SUMMARY:Associazione Musicale Rossini: concerto di Edoardo Mantellassi  (violoncello) e Bruno Maria Billone (pianoforte)
DESCRIPTION:Programma                                                                CV_Mantellassi       CV_Billone
URL:https://associazionerossini.it/evento/associazione-musicale-rossini-concerto-di-edoardo-mantellassi-violoncello-e-bruno-maria-billone-pianoforte/
LOCATION:Sala Stella Maris\, piazza Pippo Rebagliati\, 2\, Savona\, 17100\, Italia
CATEGORIES:Concerti
END:VEVENT
BEGIN:VEVENT
DTSTART;TZID=Europe/Rome:20250513T173000
DTEND;TZID=Europe/Rome:20250513T173000
DTSTAMP:20260420T043101
CREATED:20250508T080225Z
LAST-MODIFIED:20250508T080225Z
UID:6805-1747157400-1747157400@associazionerossini.it
SUMMARY:Associazione Musicale Rossini: concerto di David Feldman (controtenore) e Loris Orlando (pianoforte)
DESCRIPTION:      \n  \nProgramma        Testi                                                                    CV_Feldman      CV_Orlando
URL:https://associazionerossini.it/evento/associazione-musicale-rossini-concerto-di-david-feldman-controtenore-e-loris-orlando-pianoforte/
LOCATION:Sala Stella Maris\, piazza Pippo Rebagliati\, 2\, Savona\, 17100\, Italia
CATEGORIES:Concerti
END:VEVENT
BEGIN:VEVENT
DTSTART;TZID=Europe/Rome:20250509T170000
DTEND;TZID=Europe/Rome:20250509T170000
DTSTAMP:20260420T043101
CREATED:20250504T074355Z
LAST-MODIFIED:20250504T074355Z
UID:6795-1746810000-1746810000@associazionerossini.it
SUMMARY:Le conferenze della Rossini: introduzione a "Hamlet" di A. Thomas
DESCRIPTION:
URL:https://associazionerossini.it/evento/le-conferenze-della-rossini-introduzione-a-hamlet-di-a-thomas/
LOCATION:Sala Stella Maris\, piazza Pippo Rebagliati\, 2\, Savona\, 17100\, Italia
CATEGORIES:Conferenza
END:VEVENT
BEGIN:VEVENT
DTSTART;TZID=Europe/Rome:20250508T173000
DTEND;TZID=Europe/Rome:20250508T173000
DTSTAMP:20260420T043101
CREATED:20250503T184337Z
LAST-MODIFIED:20250505T132220Z
UID:6787-1746725400-1746725400@associazionerossini.it
SUMMARY:Associazione Musicale Rossini: concerto in ricordo di Pino Briasco
DESCRIPTION:  \nProgramma                              Pino Briasco e l’Associazione Rossini
URL:https://associazionerossini.it/evento/associazione-musicale-rossini-concerto-in-ricordo-di-pino-briasco/
LOCATION:Sala Stella Maris\, piazza Pippo Rebagliati\, 2\, Savona\, 17100\, Italia
CATEGORIES:Concerti
END:VEVENT
BEGIN:VEVENT
DTSTART;TZID=Europe/Rome:20250415T173000
DTEND;TZID=Europe/Rome:20250415T173000
DTSTAMP:20260420T043101
CREATED:20250410T130654Z
LAST-MODIFIED:20250410T130654Z
UID:6777-1744738200-1744738200@associazionerossini.it
SUMMARY:Associazione Musicale Rossini: concerto di Lamberto Curtoni (violoncello) e Giovanni Doria Miglietta (pianoforte)
DESCRIPTION: Programma                                    CV_Curtoni                                      CV_Doria_Miglietta
URL:https://associazionerossini.it/evento/associazione-musicale-rossini-concerto-di-lamberto-curtoni-violoncello-e-giovanni-doria-miglietta-pianoforte/
LOCATION:Sala Stella Maris\, piazza Pippo Rebagliati\, 2\, Savona\, 17100\, Italia
CATEGORIES:Concerti
END:VEVENT
BEGIN:VEVENT
DTSTART;TZID=Europe/Rome:20250412T173000
DTEND;TZID=Europe/Rome:20250412T173000
DTSTAMP:20260420T043101
CREATED:20250408T165801Z
LAST-MODIFIED:20250408T165801Z
UID:6765-1744479000-1744479000@associazionerossini.it
SUMMARY:Associazione Musicale Rossini: concerto di Daniela Piazza e Fulvio Bianchi (pianoforte a quattro mani)
DESCRIPTION:                                            \n                                           CV_Bianchi                                        Programma                                   CV_Piazza
URL:https://associazionerossini.it/evento/associazione-musicale-rossini-concerto-di-daniela-piazza-e-fulvio-bianchi-pianoforte-a-quattro-mani/
LOCATION:Sala Stella Maris\, piazza Pippo Rebagliati\, 2\, Savona\, 17100\, Italia
CATEGORIES:Concerti
END:VEVENT
BEGIN:VEVENT
DTSTART;TZID=Europe/Rome:20250404T173000
DTEND;TZID=Europe/Rome:20250404T173000
DTSTAMP:20260420T043101
CREATED:20250331T185340Z
LAST-MODIFIED:20250331T185340Z
UID:6751-1743787800-1743787800@associazionerossini.it
SUMMARY:Associazione Musicale Rossini: conferenza - concerto con Enzo Restagno e Giacomo Fuga
DESCRIPTION:  \nProgramma                            CV_Restagno                               CV_Fuga
URL:https://associazionerossini.it/evento/associazione-musicale-rossini-conferenza-concerto-con-enzo-restagno-e-giacomo-fuga/
LOCATION:Sala Stella Maris\, piazza Pippo Rebagliati\, 2\, Savona\, 17100\, Italia
CATEGORIES:Concerti,Conferenza
END:VEVENT
BEGIN:VEVENT
DTSTART;TZID=Europe/Rome:20250401T170000
DTEND;TZID=Europe/Rome:20250401T170000
DTSTAMP:20260420T043101
CREATED:20250309T202643Z
LAST-MODIFIED:20250309T202643Z
UID:6728-1743526800-1743526800@associazionerossini.it
SUMMARY:Le conferenze della Rossini: introduzione a "La dama di Picche" di P.I. Caikovskij
DESCRIPTION:
URL:https://associazionerossini.it/evento/le-conferenze-della-rossini-introduzione-a-la-dama-di-picche-di-p-i-caikovskij/
LOCATION:Sala Stella Maris\, piazza Pippo Rebagliati\, 2\, Savona\, 17100\, Italia
CATEGORIES:Conferenza con audizione
END:VEVENT
BEGIN:VEVENT
DTSTART;TZID=Europe/Rome:20250328T170000
DTEND;TZID=Europe/Rome:20250328T170000
DTSTAMP:20260420T043101
CREATED:20250309T202837Z
LAST-MODIFIED:20250309T202837Z
UID:6730-1743181200-1743181200@associazionerossini.it
SUMMARY:Le conferenze della Rossini: introduzione a "Die liebe der Danae" di R. Strauss
DESCRIPTION:
URL:https://associazionerossini.it/evento/le-conferenze-della-rossini-introduzione-a-die-liebe-der-danae-di-r-strauss/
LOCATION:Sala Stella Maris\, piazza Pippo Rebagliati\, 2\, Savona\, 17100\, Italia
CATEGORIES:Conferenza con audizione
END:VEVENT
BEGIN:VEVENT
DTSTART;TZID=Europe/Rome:20250327T170000
DTEND;TZID=Europe/Rome:20250327T170000
DTSTAMP:20260420T043101
CREATED:20250311T142206Z
LAST-MODIFIED:20250320T090628Z
UID:6735-1743094800-1743094800@associazionerossini.it
SUMMARY:Associazione Musicale Rossini: concerto di Alan Weiss (pianoforte)
DESCRIPTION:      \nProgramma                                         CV_Weiss
URL:https://associazionerossini.it/evento/associazione-musicale-rossini-concerto-di-alan-weiss-pianoforte/
LOCATION:Sala Stella Maris\, piazza Pippo Rebagliati\, 2\, Savona\, 17100\, Italia
CATEGORIES:Concerti
END:VEVENT
BEGIN:VEVENT
DTSTART;TZID=Europe/Rome:20250314T173000
DTEND;TZID=Europe/Rome:20250314T173000
DTSTAMP:20260420T043101
CREATED:20250309T103552Z
LAST-MODIFIED:20250312T171825Z
UID:6687-1741973400-1741973400@associazionerossini.it
SUMMARY:Associazione Musicale Rossini: concerto dell' Ensemble Rossini (Sala Stella Maris - Savona)
DESCRIPTION:Programma                                                 CV_artisti
URL:https://associazionerossini.it/evento/associazione-musicale-rossini-concerto-dell-ensemble-rossini-sala-stella-maris-savona/
LOCATION:Sala Stella Maris\, piazza Pippo Rebagliati\, 2\, Savona\, 17100\, Italia
CATEGORIES:Concerti
END:VEVENT
BEGIN:VEVENT
DTSTART;TZID=Europe/Rome:20250306T173000
DTEND;TZID=Europe/Rome:20250306T173000
DTSTAMP:20260420T043101
CREATED:20250226T215300Z
LAST-MODIFIED:20250227T204513Z
UID:6532-1741282200-1741282200@associazionerossini.it
SUMMARY:Associazione Musicale Rossini: una schubertiade (Sala Stella Maris - Savona)
DESCRIPTION:  \n  \nCV musicisti       PROGRAMMA
URL:https://associazionerossini.it/evento/associazione-musicale-rossini-una-schubertiade-sala-stella-maris-savona/
LOCATION:Sala Stella Maris\, piazza Pippo Rebagliati\, 2\, Savona\, 17100\, Italia
CATEGORIES:Concerti
END:VEVENT
BEGIN:VEVENT
DTSTART;TZID=Europe/Rome:20250220T173000
DTEND;TZID=Europe/Rome:20250220T173000
DTSTAMP:20260420T043101
CREATED:20250218T201038Z
LAST-MODIFIED:20250218T201038Z
UID:6479-1740072600-1740072600@associazionerossini.it
SUMMARY:Associazione Musicale Rossini - Ricordo di Mauro Castellano
DESCRIPTION:Programma
URL:https://associazionerossini.it/evento/associazione-musicale-rossini-ricordo-di-mauro-castellano/
LOCATION:Sala Stella Maris\, piazza Pippo Rebagliati\, 2\, Savona\, 17100\, Italia
CATEGORIES:Concerti
END:VEVENT
BEGIN:VEVENT
DTSTART;TZID=Europe/Rome:20250204T173000
DTEND;TZID=Europe/Rome:20250204T173000
DTSTAMP:20260420T043101
CREATED:20250126T111325Z
LAST-MODIFIED:20250126T111328Z
UID:6464-1738690200-1738690200@associazionerossini.it
SUMMARY:Associazione Musicale Rossini - Concerto di Stefano Occhipinti (pianoforte)
DESCRIPTION:  \n \nProgramma                                                      CV_Occhipinti
URL:https://associazionerossini.it/evento/associazione-musicale-rossini-concerto-di-stefano-occhipinti-pianoforte/
LOCATION:Sala Stella Maris\, piazza Pippo Rebagliati\, 2\, Savona\, 17100\, Italia
CATEGORIES:Concerti
END:VEVENT
BEGIN:VEVENT
DTSTART;TZID=Europe/Rome:20250130T173000
DTEND;TZID=Europe/Rome:20250130T173000
DTSTAMP:20260420T043101
CREATED:20250109T081729Z
LAST-MODIFIED:20250128T123327Z
UID:6436-1738258200-1738258200@associazionerossini.it
SUMMARY:Associazione Musicale Rossini - Concerto di Davide Alogna (violino) e Andrea Bacchetti (pianoforte)
DESCRIPTION:  \nProgramma                                                                        CV_Alogna               CV_Bacchetti
URL:https://associazionerossini.it/evento/associazione-musicale-rossini-davide-alogna-violino-andrea-bacchetti-pianoforte/
LOCATION:Sala Stella Maris\, piazza Pippo Rebagliati\, 2\, Savona\, 17100\, Italia
CATEGORIES:Concerti
END:VEVENT
BEGIN:VEVENT
DTSTART;TZID=Europe/Rome:20250123T173000
DTEND;TZID=Europe/Rome:20250123T173000
DTSTAMP:20260420T043101
CREATED:20250102T093029Z
LAST-MODIFIED:20250121T123327Z
UID:6425-1737653400-1737653400@associazionerossini.it
SUMMARY:Associazione Musicale Rossini - Concerto di Thomas Petrucci (chitarra)
DESCRIPTION:  \nCV_Petrucci                                  Programma
URL:https://associazionerossini.it/evento/associazione-musicale-rossini-concerto-di-thomas-petrucci-chitarra/
LOCATION:Sala Stella Maris\, piazza Pippo Rebagliati\, 2\, Savona\, 17100\, Italia
CATEGORIES:Concerti
END:VEVENT
BEGIN:VEVENT
DTSTART;TZID=Europe/Rome:20250116T173000
DTEND;TZID=Europe/Rome:20250116T173000
DTSTAMP:20260420T043101
CREATED:20250108T110749Z
LAST-MODIFIED:20250108T110754Z
UID:6439-1737048600-1737048600@associazionerossini.it
SUMMARY:Associazione Musicale Rossini - Concerto di Alessandro Baldini (pianoforte)
DESCRIPTION:Programma                                                CV_Baldini
URL:https://associazionerossini.it/evento/associazione-musicale-rossini-concerto-di-alessandro-baldini-pianoforte/
LOCATION:Sala Stella Maris\, piazza Pippo Rebagliati\, 2\, Savona\, 17100\, Italia
CATEGORIES:Concerti
END:VEVENT
END:VCALENDAR