BEGIN:VCALENDAR
VERSION:2.0
PRODID:-//Associazione Musicale Rossini a.p.s. - Savona - ECPv6.15.11//NONSGML v1.0//EN
CALSCALE:GREGORIAN
METHOD:PUBLISH
X-WR-CALNAME:Associazione Musicale Rossini a.p.s. - Savona
X-ORIGINAL-URL:https://associazionerossini.it
X-WR-CALDESC:Eventi per Associazione Musicale Rossini a.p.s. - Savona
REFRESH-INTERVAL;VALUE=DURATION:PT1H
X-Robots-Tag:noindex
X-PUBLISHED-TTL:PT1H
BEGIN:VTIMEZONE
TZID:Europe/Rome
BEGIN:DAYLIGHT
TZOFFSETFROM:+0100
TZOFFSETTO:+0200
TZNAME:CEST
DTSTART:20210328T010000
END:DAYLIGHT
BEGIN:STANDARD
TZOFFSETFROM:+0200
TZOFFSETTO:+0100
TZNAME:CET
DTSTART:20211031T010000
END:STANDARD
BEGIN:DAYLIGHT
TZOFFSETFROM:+0100
TZOFFSETTO:+0200
TZNAME:CEST
DTSTART:20220327T010000
END:DAYLIGHT
BEGIN:STANDARD
TZOFFSETFROM:+0200
TZOFFSETTO:+0100
TZNAME:CET
DTSTART:20221030T010000
END:STANDARD
BEGIN:DAYLIGHT
TZOFFSETFROM:+0100
TZOFFSETTO:+0200
TZNAME:CEST
DTSTART:20230326T010000
END:DAYLIGHT
BEGIN:STANDARD
TZOFFSETFROM:+0200
TZOFFSETTO:+0100
TZNAME:CET
DTSTART:20231029T010000
END:STANDARD
BEGIN:DAYLIGHT
TZOFFSETFROM:+0100
TZOFFSETTO:+0200
TZNAME:CEST
DTSTART:20240331T010000
END:DAYLIGHT
BEGIN:STANDARD
TZOFFSETFROM:+0200
TZOFFSETTO:+0100
TZNAME:CET
DTSTART:20241027T010000
END:STANDARD
END:VTIMEZONE
BEGIN:VEVENT
DTSTART;TZID=Europe/Rome:20230119T210000
DTEND;TZID=Europe/Rome:20230119T210000
DTSTAMP:20260420T204907
CREATED:20230111T174923Z
LAST-MODIFIED:20230112T085401Z
UID:2486-1674162000-1674162000@associazionerossini.it
SUMMARY:Associazione Rossini Stagione musicale 2023: Musiche da Film (Renato Procopio alla chitarra e Matteo Bariani al clarinetto) - Stella Maris (Savona)
DESCRIPTION:  \n\n\n\nCV Renato Procopio\nCV Matteo Bariani\nNote sul concerto\nProgramma\nSponsor
URL:https://associazionerossini.it/evento/associazione-rossini-stagione-musicale-2023-musiche-da-film-renato-procopio-alla-chitarra-e-matteo-baliani-al-clarinetto-stella-maris-savona/
LOCATION:Sala Stella Maris\, piazza Pippo Rebagliati\, 2\, Savona\, 17100\, Italia
CATEGORIES:Concerti
END:VEVENT
BEGIN:VEVENT
DTSTART;TZID=Europe/Rome:20230114T094500
DTEND;TZID=Europe/Rome:20230114T094500
DTSTAMP:20260420T204907
CREATED:20230111T100707Z
LAST-MODIFIED:20230111T100905Z
UID:2471-1673689500-1673689500@associazionerossini.it
SUMMARY:ARTE E FASCISMO: "il caso di Savona". Conferenza alla Stella Maris - Savona
DESCRIPTION:programma
URL:https://associazionerossini.it/evento/arte-e-fascismo-il-caso-di-savona-conferenza-alla-stella-maris-savona/
LOCATION:Sala Stella Maris\, piazza Pippo Rebagliati\, 2\, Savona\, 17100\, Italia
CATEGORIES:Conferenza
END:VEVENT
BEGIN:VEVENT
DTSTART;TZID=Europe/Rome:20230113T173000
DTEND;TZID=Europe/Rome:20230113T173000
DTSTAMP:20260420T204907
CREATED:20230102T165344Z
LAST-MODIFIED:20230102T165344Z
UID:2418-1673631000-1673631000@associazionerossini.it
SUMMARY:L’Associazione Mozart ospita: Francesca Benvenuti (violino) e  Luigi Moscatello (pianoforte) nell'ambito de “I Pomeriggi della Mozart” presso la Sala Stella Maris"
DESCRIPTION: CV Francesca Benvenuti \nCV Luigi Moscatello \nProgramma \nGli Sponsor \nCome prenotare
URL:https://associazionerossini.it/evento/lassociazione-mozart-ospita-francesca-benvenuti-violino-e-luigi-moscatello-pianoforte-nellambito-de-i-pomeriggi-della-mozart-presso-la-sala-stella-maris/
LOCATION:Sala Stella Maris\, piazza Pippo Rebagliati\, 2\, Savona\, 17100\, Italia
CATEGORIES:Concerti
END:VEVENT
BEGIN:VEVENT
DTSTART;TZID=Europe/Rome:20221210T170000
DTEND;TZID=Europe/Rome:20221210T170000
DTSTAMP:20260420T204907
CREATED:20221004T230422Z
LAST-MODIFIED:20221207T082444Z
UID:2225-1670691600-1670691600@associazionerossini.it
SUMMARY:Associazione Musicale "G. Rossini-Savona":  Cinzia Bartoli al pianoforte (Sala Stella Maris -Savona)
DESCRIPTION:Curriculum Cinzia Bartoli   note al programma (1° foglio) note al programma (2° foglio) programma
URL:https://associazionerossini.it/evento/associazione-musicale-g-rossini-savona-cinzia-bartoli-al-pianoforte-sala-stella-maris-savona/
LOCATION:Sala Stella Maris\, piazza Pippo Rebagliati\, 2\, Savona\, 17100\, Italia
CATEGORIES:Concerti
END:VEVENT
BEGIN:VEVENT
DTSTART;TZID=Europe/Rome:20221209T173000
DTEND;TZID=Europe/Rome:20221209T173000
DTSTAMP:20260420T204907
CREATED:20221130T214729Z
LAST-MODIFIED:20221130T214729Z
UID:2383-1670607000-1670607000@associazionerossini.it
SUMMARY:L’Associazione Mozart ospita il "Duo Frida" (Martina Alonso-violino- e Angela Trematore -piano-) nell'ambito de “I Pomeriggi della Mozart” presso la Sala Stella Maris"
DESCRIPTION:  \n \nCV Martina Alonso \nCV Angela Trematore \nProgramma \nSponsor
URL:https://associazionerossini.it/evento/lassociazione-mozart-ospita-il-duo-frida-martina-alonso-violino-e-angela-trematore-piano-nellambito-de-i-pomeriggi-della-mozart-presso-la-sala-stella-maris/
LOCATION:Sala Stella Maris\, piazza Pippo Rebagliati\, 2\, Savona\, 17100\, Italia
CATEGORIES:Concerti
END:VEVENT
BEGIN:VEVENT
DTSTART;TZID=Europe/Rome:20221202T173000
DTEND;TZID=Europe/Rome:20221202T173000
DTSTAMP:20260420T204907
CREATED:20221122T223532Z
LAST-MODIFIED:20221122T223532Z
UID:2361-1670002200-1670002200@associazionerossini.it
SUMMARY:L’Associazione Mozart ospita Maurizio Morganti (clarinetto) e Alessandro Gagliardi (pianoforte) nell'ambito de “I Pomeriggi della Mozart” presso la Sala Stella Maris"
DESCRIPTION:CV M. Morganti \nCV A. Gagliardi \nprogramma \nsponsor evento \n 
URL:https://associazionerossini.it/evento/lassociazione-mozart-ospita-maurizio-morganti-clarinetto-e-alessandro-gagliardi-pianoforte-nellambito-de-i-pomeriggi-della-mozart-presso-la-sala-stella-maris/
LOCATION:Sala Stella Maris\, piazza Pippo Rebagliati\, 2\, Savona\, 17100\, Italia
CATEGORIES:Concerti
END:VEVENT
BEGIN:VEVENT
DTSTART;TZID=Europe/Rome:20221122T173000
DTEND;TZID=Europe/Rome:20221122T173000
DTSTAMP:20260420T204907
CREATED:20221102T221444Z
LAST-MODIFIED:20221123T211642Z
UID:2325-1669138200-1669138200@associazionerossini.it
SUMMARY:Presentazione Libro: Vitigni e Vini d'Italia di Franco Savasta (Sala Stella Maris - Savona)
DESCRIPTION:CV Franco Savasta\nFranz Haas: Presentazione del Libro
URL:https://associazionerossini.it/evento/presentazione-libro-vitigni-e-vini-ditalia-di-franco-savasta-sala-stella-maris-savona/
LOCATION:Sala Stella Maris\, piazza Pippo Rebagliati\, 2\, Savona\, 17100\, Italia
CATEGORIES:Conferenza,Presentazione Libro
ATTACH;FMTTYPE=image/jpeg:https://associazionerossini.it/wp-content/uploads/2022/05/eseguio-e1660855867368.jpg
END:VEVENT
BEGIN:VEVENT
DTSTART;TZID=Europe/Rome:20221118T170000
DTEND;TZID=Europe/Rome:20221118T170000
DTSTAMP:20260420T204907
CREATED:20221024T221417Z
LAST-MODIFIED:20221120T165725Z
UID:2310-1668790800-1668790800@associazionerossini.it
SUMMARY:L’Associazione Mozart ospita il Trio Tribsterill nell'ambito de “I Pomeriggi della Mozart” presso la Sala Stella Maris"
DESCRIPTION:il Trio \nprogramma
URL:https://associazionerossini.it/evento/lassociazione-rossini-ospita-i-pomeriggi-della-mozart-con-il-tribsterill-trio-sala-stella-maris-savona/
LOCATION:Sala Stella Maris\, piazza Pippo Rebagliati\, 2\, Savona\, 17100\, Italia
CATEGORIES:Concerti
ATTACH;FMTTYPE=image/jpeg:https://associazionerossini.it/wp-content/uploads/2022/05/eseguio-e1660855867368.jpg
END:VEVENT
BEGIN:VEVENT
DTSTART;TZID=Europe/Rome:20221112T173000
DTEND;TZID=Europe/Rome:20221112T173000
DTSTAMP:20260420T204907
CREATED:20220930T222356Z
LAST-MODIFIED:20221117T080053Z
UID:2137-1668274200-1668274200@associazionerossini.it
SUMMARY:L'Associazione Musicale "Rossini" invita alla conferenza-concerto sul tema: "La canzone dei ricordi" (Sala Stella Maris - Savona)
DESCRIPTION:  \n  \n   \n                                                                         Pagliara e Martucci    Aldo Ferraris    Stella Doz    Lucio Cuomo \nla canzone dei ricordi               
URL:https://associazionerossini.it/evento/lassociazione-musicale-rossini-invita-alla-conferenza-concerto-sul-tema-la-canzone-dei-ricordi-alla-sala-stella-maris-savona/
LOCATION:Sala Stella Maris\, piazza Pippo Rebagliati\, 2\, Savona\, 17100\, Italia
CATEGORIES:Conferenza con audizione
ATTACH;FMTTYPE=image/jpeg:https://associazionerossini.it/wp-content/uploads/2022/05/eseguio-e1660855867368.jpg
END:VEVENT
BEGIN:VEVENT
DTSTART;TZID=Europe/Rome:20221111T173000
DTEND;TZID=Europe/Rome:20221111T173000
DTSTAMP:20260420T204907
CREATED:20221108T142552Z
LAST-MODIFIED:20221117T080007Z
UID:2303-1668187800-1668187800@associazionerossini.it
SUMMARY:L'Associazione Rossini ospita "I Pomeriggi della Mozart" con Franco Giusto al pianoforte (Sala Stella Maris - Savona)
DESCRIPTION:notizie sul concerto \ncurriculum \nprogramma:  \n«Bach\, Mozart\, Beethoven: trittico in Classic Jazz»
URL:https://associazionerossini.it/evento/lassociazione-rossini-ospita-i-pomeriggi-della-mozart-con-franco-giusto-al-pianoforte-sala-stella-maris-savona/
LOCATION:Sala Stella Maris\, piazza Pippo Rebagliati\, 2\, Savona\, 17100\, Italia
CATEGORIES:Concerti
ATTACH;FMTTYPE=image/jpeg:https://associazionerossini.it/wp-content/uploads/2022/05/eseguio-e1660855867368.jpg
END:VEVENT
BEGIN:VEVENT
DTSTART;TZID=Europe/Rome:20221028T173000
DTEND;TZID=Europe/Rome:20221028T173000
DTSTAMP:20260420T204907
CREATED:20221024T085726Z
LAST-MODIFIED:20221024T085727Z
UID:2301-1666978200-1666978200@associazionerossini.it
SUMMARY:L'Associazione Rossini ospita "I Pomeriggi della Mozart" con Matteo Ferrari (flauto) e Andrea Candeli (chitarra) alla Stella Maris di Savona
DESCRIPTION:Curriculum\nProgramma
URL:https://associazionerossini.it/evento/lassociazione-rossini-ospita-i-pomeriggi-della-mozart-con-matteo-ferrari-flauto-e-andrea-candeli-chitarra-alla-stella-maris-di-savona/
LOCATION:Sala Stella Maris\, piazza Pippo Rebagliati\, 2\, Savona\, 17100\, Italia
CATEGORIES:Conferenza
END:VEVENT
BEGIN:VEVENT
DTSTART;TZID=Europe/Rome:20221027T170000
DTEND;TZID=Europe/Rome:20221027T170000
DTSTAMP:20260420T204907
CREATED:20220929T204957Z
LAST-MODIFIED:20221027T205510Z
UID:2110-1666890000-1666890000@associazionerossini.it
SUMMARY:L'Associazione Musicale Rossini presenta Eleonora Podestà (violino) e Marco Podestà (pianoforte) in concerto alla Stella Maris - Savona
DESCRIPTION:Curriculum Eleonora Podestà    Curriculum Marco Podestà            \nProgramma \n 
URL:https://associazionerossini.it/evento/lassociazione-musicale-rossini-presenta-eleonora-podesta-violino-e-marco-podesta-pianoforte-in-concerto-alla-stella-maris-savona/
LOCATION:Sala Stella Maris\, piazza Pippo Rebagliati\, 2\, Savona\, 17100\, Italia
CATEGORIES:Concerti
ATTACH;FMTTYPE=image/jpeg:https://associazionerossini.it/wp-content/uploads/2022/05/eseguio-e1660855867368.jpg
END:VEVENT
BEGIN:VEVENT
DTSTART;TZID=Europe/Rome:20221025T170000
DTEND;TZID=Europe/Rome:20221025T170000
DTSTAMP:20260420T204907
CREATED:20221015T205705Z
LAST-MODIFIED:20221027T071947Z
UID:2256-1666717200-1666717200@associazionerossini.it
SUMMARY:Sala Stella Maris - Savona: Franco Rebagliati presenta il suo nuovo libro "I treni armati della regia marina in Liguria"
DESCRIPTION:Brevi cenni sul libro \nCV autore \nla prefazione di Franco Gallea \nprogramma \npatrocinio
URL:https://associazionerossini.it/evento/sala-stella-maris-savona-franco-rebagliati-presenta-il-suo-nuovo-libro-i-treni-armati-della-regia-marina-in-liguria/
CATEGORIES:Conferenza
ATTACH;FMTTYPE=image/jpeg:https://associazionerossini.it/wp-content/uploads/2022/05/eseguio-e1660855867368.jpg
END:VEVENT
BEGIN:VEVENT
DTSTART;TZID=Europe/Rome:20221023T210000
DTEND;TZID=Europe/Rome:20221023T210000
DTSTAMP:20260420T204907
CREATED:20220923T201307Z
LAST-MODIFIED:20221024T084957Z
UID:2050-1666558800-1666558800@associazionerossini.it
SUMMARY:L'Associazione Rossini ospita l'Ensemble Nuove Musiche per la conferenza-concerto "Exotica" alla Stella Maris di Savona
DESCRIPTION:  \n  \nNotizie su “Exotica”    Stefano Leoni    Elisabetta Vaccaroni e strumentisti        \n 
URL:https://associazionerossini.it/evento/lassociazione-rossini-ospita-lensemble-nuove-musiche-alla-stella-maris-di-savona-2/
LOCATION:Sala Stella Maris\, piazza Pippo Rebagliati\, 2\, Savona\, 17100\, Italia
CATEGORIES:Conferenza con audizione
ATTACH;FMTTYPE=image/jpeg:https://associazionerossini.it/wp-content/uploads/2022/05/eseguio-e1660855867368.jpg
END:VEVENT
BEGIN:VEVENT
DTSTART;TZID=Europe/Rome:20221021T173000
DTEND;TZID=Europe/Rome:20221021T173000
DTSTAMP:20260420T204907
CREATED:20220925T210424Z
LAST-MODIFIED:20221024T084828Z
UID:2064-1666373400-1666373400@associazionerossini.it
SUMMARY:L'Associazione "Rossini" ospita: I pomeriggi della “Mozart”(Sergio Patria\, violoncello - Elena Ballario\, pianoforte) - Sala Stella Maris - Savona
DESCRIPTION:  \ncurriculum \nprogramma  
URL:https://associazionerossini.it/evento/lassociazione-rossini-ospita-i-pomeriggi-della-mozartsergio-patria-violoncello-elena-ballario-pianoforte-sala-stella-maris-savona/
LOCATION:Sala Stella Maris\, piazza Pippo Rebagliati\, 2\, Savona\, 17100\, Italia
CATEGORIES:Concerti
ATTACH;FMTTYPE=image/jpeg:https://associazionerossini.it/wp-content/uploads/2022/05/eseguio-e1660855867368.jpg
END:VEVENT
BEGIN:VEVENT
DTSTART;TZID=Europe/Rome:20221008T173000
DTEND;TZID=Europe/Rome:20221008T173000
DTSTAMP:20260420T204907
CREATED:20220928T223344Z
LAST-MODIFIED:20221010T064940Z
UID:2089-1665250200-1665250200@associazionerossini.it
SUMMARY:l'Associazione Rossini e il Complesso Bandistico "A. Forzano" di Savona invitano la cittadinanza al concerto: "Amicizia in musica" nella Chiesa di S. Andrea - Savona.
DESCRIPTION:  \n  \nAntonio Forzano \nBreve storia della “Forzano” \nil programma
URL:https://associazionerossini.it/evento/lassociazione-rossini-e-il-complesso-bandistico-a-forzano-di-savona-invitano-la-cittadinanza-al-concerto-amicizia-in-musica-nella-chiesa-di-s-andrea-savona/
LOCATION:Chiesa di S. Andrea – Savona\, piazza dei Consoli del Comune\, Savona\, Savona\, 17100\, Italia
CATEGORIES:Concerti
ATTACH;FMTTYPE=image/jpeg:https://associazionerossini.it/wp-content/uploads/2022/05/eseguio-e1660855867368.jpg
END:VEVENT
BEGIN:VEVENT
DTSTART;TZID=Europe/Rome:20220930T204500
DTEND;TZID=Europe/Rome:20220930T204500
DTSTAMP:20260420T204907
CREATED:20220921T053137Z
LAST-MODIFIED:20220930T223639Z
UID:2012-1664570700-1664570700@associazionerossini.it
SUMMARY:Associazione Musicale Rossini: concerto Kinga Augustyn\, violino e Corrado Ruzza\, pianoforte (Sala Stella Maris - Savona)
DESCRIPTION:        curriculum Kinga Augustyn \ncurriculum Corrado Ruzza \nprogramma del concerto \n                                                                \n 
URL:https://associazionerossini.it/evento/associazione-musicale-rossini-concerto-kinga-augustyn-violino-e-corrado-ruzza-pianoforte-sala-stella-maris-savona/
LOCATION:Sala Stella Maris\, piazza Pippo Rebagliati\, 2\, Savona\, 17100\, Italia
CATEGORIES:Concerti
ATTACH;FMTTYPE=image/jpeg:https://associazionerossini.it/wp-content/uploads/2022/05/eseguio-e1660855867368.jpg
END:VEVENT
END:VCALENDAR