BEGIN:VCALENDAR
VERSION:2.0
PRODID:-//Associazione Musicale Rossini a.p.s. - Savona - ECPv6.15.11//NONSGML v1.0//EN
CALSCALE:GREGORIAN
METHOD:PUBLISH
X-WR-CALNAME:Associazione Musicale Rossini a.p.s. - Savona
X-ORIGINAL-URL:https://associazionerossini.it
X-WR-CALDESC:Eventi per Associazione Musicale Rossini a.p.s. - Savona
REFRESH-INTERVAL;VALUE=DURATION:PT1H
X-Robots-Tag:noindex
X-PUBLISHED-TTL:PT1H
BEGIN:VTIMEZONE
TZID:Europe/Rome
BEGIN:DAYLIGHT
TZOFFSETFROM:+0100
TZOFFSETTO:+0200
TZNAME:CEST
DTSTART:20220327T010000
END:DAYLIGHT
BEGIN:STANDARD
TZOFFSETFROM:+0200
TZOFFSETTO:+0100
TZNAME:CET
DTSTART:20221030T010000
END:STANDARD
BEGIN:DAYLIGHT
TZOFFSETFROM:+0100
TZOFFSETTO:+0200
TZNAME:CEST
DTSTART:20230326T010000
END:DAYLIGHT
BEGIN:STANDARD
TZOFFSETFROM:+0200
TZOFFSETTO:+0100
TZNAME:CET
DTSTART:20231029T010000
END:STANDARD
BEGIN:DAYLIGHT
TZOFFSETFROM:+0100
TZOFFSETTO:+0200
TZNAME:CEST
DTSTART:20240331T010000
END:DAYLIGHT
BEGIN:STANDARD
TZOFFSETFROM:+0200
TZOFFSETTO:+0100
TZNAME:CET
DTSTART:20241027T010000
END:STANDARD
END:VTIMEZONE
BEGIN:VEVENT
DTSTART;TZID=Europe/Rome:20230519T203000
DTEND;TZID=Europe/Rome:20230519T203000
DTSTAMP:20260421T043840
CREATED:20230505T130957Z
LAST-MODIFIED:20230509T090122Z
UID:2964-1684528200-1684528200@associazionerossini.it
SUMMARY:Associazione Musicale Dioniso: 35^ edizione dei Concerti di Primavera "Concerto di inaugurazione" al Teatro Comunale "G. Chiabrera" GIOVANNI BELLUCCI pianoforte
DESCRIPTION:curriculum Giovanni Bellucci            Programma      Prenotazioni     Sponsor
URL:https://associazionerossini.it/evento/accelerando-festival-35-edizione-dei-concerti-di-primavera-concerto-di-inaugurazione-al-teatro-comunale-g-chiabrera-giovanni-bellucci-pianoforte/
LOCATION:Teatro Comunale “G. Chiabrera” – Savona
CATEGORIES:Concerti
END:VEVENT
BEGIN:VEVENT
DTSTART;TZID=Europe/Rome:20230518T203000
DTEND;TZID=Europe/Rome:20230518T203000
DTSTAMP:20260421T043840
CREATED:20230512T220904Z
LAST-MODIFIED:20230514T083221Z
UID:3005-1684441800-1684441800@associazionerossini.it
SUMMARY:L'Associazione Rossini presenta: CONCERTO JAZZ DEL "UNUSUAL QUINTET" alla Sala Stella Maris - Savona
DESCRIPTION:  \nPresentazione Unusual Quintet \n  \n  \n  \nCV dei Musicisti       Filosofia del gruppo      Programma    Notizie utili \n  \n  \n 
URL:https://associazionerossini.it/evento/lassociazione-rossini-presenta-concerto-jazz-del-unusual-quintet-alla-sala-stella-maris-savona/
LOCATION:Sala Stella Maris\, piazza Pippo Rebagliati\, 2\, Savona\, 17100\, Italia
CATEGORIES:Concerti
END:VEVENT
BEGIN:VEVENT
DTSTART;TZID=Europe/Rome:20230511T183000
DTEND;TZID=Europe/Rome:20230511T183000
DTSTAMP:20260421T043840
CREATED:20230501T074514Z
LAST-MODIFIED:20230501T074520Z
UID:2918-1683829800-1683829800@associazionerossini.it
SUMMARY:Suoni d'oriente: Silvia Schiaffino (flauto) e Renato Procopio (chitarra) alla Cappella Sistina di Savona
DESCRIPTION: per maggiori dettagli CLICCA QUI
URL:https://associazionerossini.it/evento/suoni-doriente-silvia-schiaffino-flauto-e-renato-procopio-chitarra-alla-cappella-sistina-di-savona/
LOCATION:Cappella Sistina di Savona
END:VEVENT
BEGIN:VEVENT
DTSTART;TZID=Europe/Rome:20230505T080000
DTEND;TZID=Europe/Rome:20230505T170000
DTSTAMP:20260421T043840
CREATED:20230502T221825Z
LAST-MODIFIED:20230502T221913Z
UID:2940-1683273600-1683306000@associazionerossini.it
SUMMARY:L’Associazione Mozart ospita: Paola Esposito (mandolino) e Francesca Ghilione (chitarra) nell'ambito de “I Pomeriggi della Mozart” presso l'Oratorio di via Guidobono-Savona
DESCRIPTION:  \ncurricula & programma       per saperne di più
URL:https://associazionerossini.it/evento/lassociazione-mozart-ospita-paola-esposito-mandolino-e-francesca-ghilione-chitarra-nellambito-de-i-pomeriggi-della-mozart-presso-loratorio-di-via-guidobono-savona/
LOCATION:Oratorio dei Santi Giovanni\, Giovanni Evangelista e Petronilla – via Guidobono (Savona)
CATEGORIES:Concerti
END:VEVENT
BEGIN:VEVENT
DTSTART;TZID=Europe/Rome:20230504T173000
DTEND;TZID=Europe/Rome:20230504T173000
DTSTAMP:20260421T043840
CREATED:20230426T165929Z
LAST-MODIFIED:20230503T214106Z
UID:2904-1683221400-1683221400@associazionerossini.it
SUMMARY:L'Associazione Rossini presenta: "La musica da camera di Robert e Clara Schumann “ (Silvia Schiaffino flauto - Martina Romano violoncello - Filippo Falchero Pianoforte) alla Sala Stella Maris - Savona
DESCRIPTION:iscrizione     Programma      Curricula
URL:https://associazionerossini.it/evento/lassociazione-rossini-presenta-la-musica-da-camera-di-robert-e-clara-schumann-silvia-schiaffino-flauto-martina-romano-violoncello-filippo-falchero-pianoforte-alla-sala-stella-mart/
LOCATION:Sala Stella Maris\, piazza Pippo Rebagliati\, 2\, Savona\, 17100\, Italia
CATEGORIES:Concerti
END:VEVENT
BEGIN:VEVENT
DTSTART;TZID=Europe/Rome:20230428T173000
DTEND;TZID=Europe/Rome:20230428T173000
DTSTAMP:20260421T043840
CREATED:20230425T201459Z
LAST-MODIFIED:20230425T201525Z
UID:2892-1682703000-1682703000@associazionerossini.it
SUMMARY:L’Associazione Mozart ospita: Manuela Matis (violino) e Donato Giupponi (organo) nell'ambito de “I Pomeriggi della Mozart” presso l'Oratorio di via Guidobono-Savona
DESCRIPTION:Curricula     Programma      per saperne di più
URL:https://associazionerossini.it/evento/lassociazione-mozart-ospita-manuela-matis-violino-e-donato-giupponi-organo-nellambito-de-i-pomeriggi-della-mozart-presso-loratorio-di-via-guidobono-savona/
LOCATION:Oratorio dei Santi Giovanni\, Giovanni Evangelista e Petronilla – via Guidobono (Savona)
CATEGORIES:Concerti
END:VEVENT
BEGIN:VEVENT
DTSTART;TZID=Europe/Rome:20230427T173000
DTEND;TZID=Europe/Rome:20230427T173000
DTSTAMP:20260421T043840
CREATED:20230422T212710Z
LAST-MODIFIED:20230423T202108Z
UID:2875-1682616600-1682616600@associazionerossini.it
SUMMARY:Associazione Rossini: Concerto “Music styles of the 20th century for Saxophone Quartet" alla Sala Stella Maris di Savona
DESCRIPTION:  \n  \nCurricola SaxUPO    Presentazione Quartetto SaxUPO     Programma     iscrizione    
URL:https://associazionerossini.it/evento/associazione-rossini-concerto-per-quattro-sassofoni-saxupo-universita-del-piemonte-occidentale-alla-sala-stella-maris-di-savona/
LOCATION:Sala Stella Maris\, piazza Pippo Rebagliati\, 2\, Savona\, 17100\, Italia
CATEGORIES:Concerti
END:VEVENT
BEGIN:VEVENT
DTSTART;TZID=Europe/Rome:20230421T173000
DTEND;TZID=Europe/Rome:20230421T173000
DTSTAMP:20260421T043840
CREATED:20230420T152852Z
LAST-MODIFIED:20230420T152852Z
UID:2865-1682098200-1682098200@associazionerossini.it
SUMMARY:L’Associazione Mozart ospita: Giovanni Mareggini (flauto) e Morgana Rudan (arpa) nell'ambito de “I Pomeriggi della Mozart” presso l'Oratorio di via Guidobono-Savona
DESCRIPTION:          Programma e curriculum \nPer saperne di più vai su
URL:https://associazionerossini.it/evento/lassociazione-mozart-ospita-giovanni-mareggini-flauto-e-morgana-rudan-arpa-nellambito-de-i-pomeriggi-della-mozart-presso-loratorio-di-via-guidobono-savona/
LOCATION:Oratorio dei Santi Giovanni\, Giovanni Evangelista e Petronilla – via Guidobono (Savona)
CATEGORIES:Concerti
END:VEVENT
BEGIN:VEVENT
DTSTART;TZID=Europe/Rome:20230414T210000
DTEND;TZID=Europe/Rome:20230414T210000
DTSTAMP:20260421T043840
CREATED:20230406T204106Z
LAST-MODIFIED:20230406T204231Z
UID:2853-1681506000-1681506000@associazionerossini.it
SUMMARY:Concerto vocale e strumentale dedicato a N.S. della Misericordia (Chiesa di S. Andrea - Savona)
DESCRIPTION:  \nper saperne di più clicca qui
URL:https://associazionerossini.it/evento/concerto-vocasle-e-strumentale-dedicato-a-n-s-della-misericordia-chiesa-di-s-andrea-savona/
LOCATION:Chiesa di S. Andrea – Savona\, piazza dei Consoli del Comune\, Savona\, Savona\, 17100\, Italia
CATEGORIES:Concerti
END:VEVENT
BEGIN:VEVENT
DTSTART;TZID=Europe/Rome:20230413T173000
DTEND;TZID=Europe/Rome:20230413T173000
DTSTAMP:20260421T043840
CREATED:20230406T202724Z
LAST-MODIFIED:20230411T175048Z
UID:2835-1681407000-1681407000@associazionerossini.it
SUMMARY:Associazione Rossini: Melologhi romantici  Jacopo Marchisio voce narrante -  Loris Orlando pianoforte (Sala Stella Maris - Savona)
DESCRIPTION:  \nBreve storia del “melologo”         Curricula      Programma      Prenotazione
URL:https://associazionerossini.it/evento/associazione-rossini-melologhi-romantici-jacopo-marchisio-voce-narrante-loris-orlando-pianoforte-sala-stella-maris-savona/
LOCATION:Sala Stella Maris\, piazza Pippo Rebagliati\, 2\, Savona\, 17100\, Italia
CATEGORIES:Concerti
END:VEVENT
BEGIN:VEVENT
DTSTART;TZID=Europe/Rome:20230406T173000
DTEND;TZID=Europe/Rome:20230406T173000
DTSTAMP:20260421T043840
CREATED:20230331T211312Z
LAST-MODIFIED:20230403T214123Z
UID:2812-1680802200-1680802200@associazionerossini.it
SUMMARY:L'Associazione Rossini in collaborazione con Feltrinelli Point-Savona: presentazione del libro "La Religione dei Romani" di Federico Santangelo (Sala Stella Maris - Savona)
DESCRIPTION:curriculum        presentazione del libro    pubblicazioni  
URL:https://associazionerossini.it/evento/lassociazione-rossini-in-collaborazione-con-feltrinelli-point-savona-presentazione-del-libro-la-religione-dei-romani-di-federico-santangelo-sala-stella-maris-savona/
LOCATION:Sala Stella Maris\, piazza Pippo Rebagliati\, 2\, Savona\, 17100\, Italia
CATEGORIES:Conferenza,Presentazione Libro
END:VEVENT
BEGIN:VEVENT
DTSTART;TZID=Europe/Rome:20230331T173000
DTEND;TZID=Europe/Rome:20230331T173000
DTSTAMP:20260421T043840
CREATED:20230316T231818Z
LAST-MODIFIED:20230316T231818Z
UID:2777-1680283800-1680283800@associazionerossini.it
SUMMARY:L’Associazione Mozart ospita: Chiara Nicora e Ferdinando Baroffio (pianoforte a quattro mani) - Sala Stella Maris Savona
DESCRIPTION:             Collegati a 
URL:https://associazionerossini.it/evento/lassociazione-mozart-ospita-chiara-nicora-e-ferdinando-baroffio-pianoforte-a-quattro-mani-sala-stella-maris-savona/
LOCATION:Sala Stella Maris\, piazza Pippo Rebagliati\, 2\, Savona\, 17100\, Italia
CATEGORIES:Concerti
END:VEVENT
BEGIN:VEVENT
DTSTART;TZID=Europe/Rome:20230328T173000
DTEND;TZID=Europe/Rome:20230328T173000
DTSTAMP:20260421T043840
CREATED:20230327T181209Z
LAST-MODIFIED:20230327T181418Z
UID:2801-1680024600-1680024600@associazionerossini.it
SUMMARY:Associazione Rossini: presentazione dell'opera “I due Foscari” di Giuseppe Verdi.
DESCRIPTION:      avviso importante!
URL:https://associazionerossini.it/evento/per-i-soci-associazione-rossini-presentazione-dellopera-i-due-foscari-di-giuseppe-verdi/
LOCATION:Sala Stella Maris\, piazza Pippo Rebagliati\, 2\, Savona\, 17100\, Italia
CATEGORIES:Conferenza,Conferenza con audizione
END:VEVENT
BEGIN:VEVENT
DTSTART;TZID=Europe/Rome:20230323T173000
DTEND;TZID=Europe/Rome:20230323T173000
DTSTAMP:20260421T043840
CREATED:20230316T224823Z
LAST-MODIFIED:20230318T133715Z
UID:2770-1679592600-1679592600@associazionerossini.it
SUMMARY:L'Associazione Rossini presenta: Giovanni Doria Miglietta al pianoforte (Sala Stella Maris - Savona)
DESCRIPTION:Curriculum G. Doria Miglietta      Programma      Breve commento    iscrizione
URL:https://associazionerossini.it/evento/lassociazione-rossini-presenta-giovanni-doria-miglietta-al-pianoforte-sala-stella-maris-savona/
LOCATION:Sala Stella Maris\, piazza Pippo Rebagliati\, 2\, Savona\, 17100\, Italia
CATEGORIES:Concerti
END:VEVENT
BEGIN:VEVENT
DTSTART;TZID=Europe/Rome:20230314T173000
DTEND;TZID=Europe/Rome:20230314T173000
DTSTAMP:20260421T043840
CREATED:20230305T171426Z
LAST-MODIFIED:20230305T212918Z
UID:2750-1678815000-1678815000@associazionerossini.it
SUMMARY:L'Associazione Rossini presenta: Trio Friedrich in concerto (Massimo Gatti - viola\, Ilaria Costantino - pianoforte\, Raffaele Bertolini - clarinetto) Sala Stella Maris-Savona
DESCRIPTION:  \nCV del trio    Programma       iscrizione
URL:https://associazionerossini.it/evento/lassociazione-rossini-presenta-trio-friedrich-in-concerto-massimo-gatti-viola-ilaria-costantino-pianoforte-raffaele-bertolini-clarinetto-sala-stella-maris-savona/
LOCATION:Sala Stella Maris\, piazza Pippo Rebagliati\, 2\, Savona\, 17100\, Italia
CATEGORIES:Concerti
END:VEVENT
BEGIN:VEVENT
DTSTART;TZID=Europe/Rome:20230303T173000
DTEND;TZID=Europe/Rome:20230303T173000
DTSTAMP:20260421T043840
CREATED:20230226T153801Z
LAST-MODIFIED:20230226T153801Z
UID:2738-1677864600-1677864600@associazionerossini.it
SUMMARY:L'Associazione Rossini presenta: Daniela Piazza e Fulvio Bianchi in concerto (Pianoforte a quattro mani) Sala Stella Maris-Savona
DESCRIPTION:CV duo pianisti      programma della serata      Prenotazione
URL:https://associazionerossini.it/evento/lassociazione-rossini-presenta-daniela-piazza-e-fulvio-bianchi-in-concerto-pianoforte-a-quattro-mani-sala-stella-maris-savona/
LOCATION:Sala Stella Maris\, piazza Pippo Rebagliati\, 2\, Savona\, 17100\, Italia
CATEGORIES:Concerti
END:VEVENT
BEGIN:VEVENT
DTSTART;TZID=Europe/Rome:20230225T173000
DTEND;TZID=Europe/Rome:20230225T173000
DTSTAMP:20260421T043840
CREATED:20230117T005949Z
LAST-MODIFIED:20230215T151929Z
UID:2545-1677346200-1677346200@associazionerossini.it
SUMMARY:Jacopo Marchisio presenta il libro "De Bello Pucciniano" di Marco Reghezza (Sala Stella Maris - Savona)
DESCRIPTION:   \nCV Autore    Recensione critica    CV Cantante     CV Pianista \n 
URL:https://associazionerossini.it/evento/jacopo-marchisio-presenta-il-libro-de-bello-pucciniano-di-marco-reghezza-sala-stella-maris-savona/
LOCATION:Sala Stella Maris\, piazza Pippo Rebagliati\, 2\, Savona\, 17100\, Italia
CATEGORIES:Conferenza con audizione,Presentazione Libro
END:VEVENT
BEGIN:VEVENT
DTSTART;TZID=Europe/Rome:20230223T173000
DTEND;TZID=Europe/Rome:20230223T173000
DTSTAMP:20260421T043840
CREATED:20230216T221351Z
LAST-MODIFIED:20230221T082723Z
UID:2708-1677173400-1677173400@associazionerossini.it
SUMMARY:L'Associazione Rossini presenta: Compositori liguri tra Ottocento e Novecento (Elena Buttiero & Anita Frumento pianoforte a quattro mani) Sala Stella Maris-Savona
DESCRIPTION:CV Musiciste      Programma       Prenotazioni     Non sembiava immagine…      Note biografiche degli Autori
URL:https://associazionerossini.it/evento/lassociazione-rossini-presenta-la-liguria-nostra-terra-e-i-suoi-compositori-tra-ottocento-e-novecento-elena-buttiero-anita-frumento-pianoforte-a-quattro-mani-sala-stella-maris-savona/
LOCATION:Sala Stella Maris\, piazza Pippo Rebagliati\, 2\, Savona\, 17100\, Italia
CATEGORIES:Concerti
END:VEVENT
BEGIN:VEVENT
DTSTART;TZID=Europe/Rome:20230221T173000
DTEND;TZID=Europe/Rome:20230221T173000
DTSTAMP:20260421T043840
CREATED:20230216T232756Z
LAST-MODIFIED:20230217T093301Z
UID:2721-1677000600-1677000600@associazionerossini.it
SUMMARY:Associazione Rossini: presentazione dell'opera "POWDER HER FACE"  di THOMAS ADES (commento di Jacopo Marchisio e Sergio Tortarolo) Sala Stella Maris - Savona
DESCRIPTION:  \nQualche notizia      Dettagli e proposta
URL:https://associazionerossini.it/evento/associazione-rossini-presentazione-dellopera-powder-her-face-di-thomas-ades-commento-di-jacopo-marchisio-e-sergio-tortaro-sala-stella-maris-savona/
LOCATION:Sala Stella Maris\, piazza Pippo Rebagliati\, 2\, Savona\, 17100\, Italia
CATEGORIES:Conferenza con audizione
END:VEVENT
BEGIN:VEVENT
DTSTART;TZID=Europe/Rome:20230217T170000
DTEND;TZID=Europe/Rome:20230217T190000
DTSTAMP:20260421T043840
CREATED:20230211T211422Z
LAST-MODIFIED:20230211T211422Z
UID:2687-1676653200-1676660400@associazionerossini.it
SUMMARY:ICIT (Istituto di Cultura Italo-Tedesco) presenta: Invito al cinema tedesco (Sala Stella Maris - Savona)
DESCRIPTION:  \nTrama del film        Iscrizione
URL:https://associazionerossini.it/evento/icit-istituto-di-cultura-italo-tedesco-presenta-invito-al-cinema-tedesco-sala-stella-maris-savona-2/
LOCATION:Sala Stella Maris\, piazza Pippo Rebagliati\, 2\, Savona\, 17100\, Italia
CATEGORIES:Conferenza con audizione,Proiezione film
END:VEVENT
BEGIN:VEVENT
DTSTART;TZID=Europe/Rome:20230215T170000
DTEND;TZID=Europe/Rome:20230215T190000
DTSTAMP:20260421T043840
CREATED:20230211T165525Z
LAST-MODIFIED:20230211T165525Z
UID:2669-1676480400-1676487600@associazionerossini.it
SUMMARY:ICIT (Istituto di Cultura Italo-Tedesco) presenta: Invito al cinema tedesco (Sala Stella Maris - Savona)
DESCRIPTION:  \nRecensione del film       Prenotazioni
URL:https://associazionerossini.it/evento/icit-istituto-di-cultura-italo-tedesco-presenta-invito-al-cinema-tedesco-sala-stella-maris-savona/
LOCATION:Sala Stella Maris\, piazza Pippo Rebagliati\, 2\, Savona\, 17100\, Italia
CATEGORIES:Conferenza con audizione
END:VEVENT
BEGIN:VEVENT
DTSTART;TZID=Europe/Rome:20230214T173000
DTEND;TZID=Europe/Rome:20230214T173000
DTSTAMP:20260421T043840
CREATED:20230210T170345Z
LAST-MODIFIED:20230210T170345Z
UID:2652-1676395800-1676395800@associazionerossini.it
SUMMARY:Andrea Bacchetti al pianoforte per l'Associazione Musicale Rossini (Sala Stella Maris - Savona)
DESCRIPTION:  \n  \n  \nCV Andrea Bacchetti      Awards and Nomination     Programma      Prenotazione \n  \n  \n  \n  \n  \n  \n 
URL:https://associazionerossini.it/evento/andrea-bacchetti-al-pianoforte-per-lassociazione-musicale-rossini-sala-stella-maris-savona/
LOCATION:Sala Stella Maris\, piazza Pippo Rebagliati\, 2\, Savona\, 17100\, Italia
CATEGORIES:Concerti
END:VEVENT
BEGIN:VEVENT
DTSTART;TZID=Europe/Rome:20230209T173000
DTEND;TZID=Europe/Rome:20230209T173000
DTSTAMP:20260421T043840
CREATED:20221004T230519Z
LAST-MODIFIED:20230205T204821Z
UID:2209-1675963800-1675963800@associazionerossini.it
SUMMARY:Ensemble Rossini: Carl Philipp Emanuel Bach  (Associazione "G. Rossini": Sala Stella Maris - Savona)
DESCRIPTION:  \nL’Ensemble Rossini       Curriculum Ensemble      Programma      Programma di sala \n  \n  \n 
URL:https://associazionerossini.it/evento/lassociazione-g-rossini-presenta-lensemble-rossini-in-concerto-sala-stella-maris-savona/
LOCATION:Sala Stella Maris\, piazza Pippo Rebagliati\, 2\, Savona\, 17100\, Italia
CATEGORIES:Concerti
END:VEVENT
BEGIN:VEVENT
DTSTART;TZID=Europe/Rome:20230205T173000
DTEND;TZID=Europe/Rome:20230205T173000
DTSTAMP:20260421T043840
CREATED:20230120T205428Z
LAST-MODIFIED:20230120T205428Z
UID:2590-1675618200-1675618200@associazionerossini.it
SUMMARY:L'Associazione Musicale Rossini ospita il "Sestetto di Firenze" in concerto (Sala Stella Maris-Savona)
DESCRIPTION:Il sestetto   CV sestetto   Programma    Sponsor 
URL:https://associazionerossini.it/evento/lassociazione-musicale-rossini-ospita-il-sestetto-di-firenze-in-concerto-sala-stella-maris-savona/
LOCATION:Sala Stella Maris\, piazza Pippo Rebagliati\, 2\, Savona\, 17100\, Italia
CATEGORIES:Concerti
END:VEVENT
BEGIN:VEVENT
DTSTART;TZID=Europe/Rome:20230203T173000
DTEND;TZID=Europe/Rome:20230203T173000
DTSTAMP:20260421T043840
CREATED:20230201T164103Z
LAST-MODIFIED:20230201T164103Z
UID:2613-1675445400-1675445400@associazionerossini.it
SUMMARY:L’Associazione Mozart ospita: ArmoniEnsemble Piano Trio (Palma di Gaetano [flauto] - Giordano Muolo [clarinetto] - Danilo Panico [pianoforte]) nell'ambito de “I Pomeriggi della Mozart” presso la Sala Stella Maris"
DESCRIPTION:  \nCV Musicisti       Programma     Prenotazioni      Sponsor     \n 
URL:https://associazionerossini.it/evento/lassociazione-mozart-ospita-armoniensemble-piano-trio-palma-di-gaetano-flauto-giordano-muolo-clarinetto-danilo-panico-pianoforte-nellambito-de-i-pomeriggi-della-mozart/
LOCATION:Sala Stella Maris\, piazza Pippo Rebagliati\, 2\, Savona\, 17100\, Italia
CATEGORIES:Concerti
END:VEVENT
BEGIN:VEVENT
DTSTART;TZID=Europe/Rome:20230128T203000
DTEND;TZID=Europe/Rome:20230128T203000
DTSTAMP:20260421T043840
CREATED:20230120T163420Z
LAST-MODIFIED:20230120T163420Z
UID:2562-1674937800-1674937800@associazionerossini.it
SUMMARY:"all'ombra delle tue ali" in ricordo del giorno della memoria 2023:  concerto e rievocazione storica (Chiesa di S. Andrea - Savona)
DESCRIPTION:  \n  \n  \nProgramma musicale     Letture    Sponsor \n  \n 
URL:https://associazionerossini.it/evento/allombra-delle-tue-ali-in-ricordo-del-giorno-della-memoria-2023-concerto-e-rievocazione-storica-chiesa-di-s-andrea-savona/
LOCATION:Chiesa di S. Andrea – Savona\, piazza dei Consoli del Comune\, Savona\, Savona\, 17100\, Italia
CATEGORIES:Concerti
END:VEVENT
BEGIN:VEVENT
DTSTART;TZID=Europe/Rome:20230126T173000
DTEND;TZID=Europe/Rome:20230126T173000
DTSTAMP:20260421T043840
CREATED:20230116T143544Z
LAST-MODIFIED:20230125T083831Z
UID:2516-1674754200-1674754200@associazionerossini.it
SUMMARY:Associazione Musicale Rossini - In occasione del "Giorno della Memoria 2023": Olivier Messiaen "Le Merle Noir" e "Quatuor pour la fin du temps"
DESCRIPTION: \n\n\n\n\naggiornamento in corso: controllare il sito giornalmente\n\n\n\n \n\n\n\nCV Interpreti\nProgramma concerto\nCV Olivier Messiaen\nCV Marco Lombardi\nGiornata 2023\nSponsor\n\n\n \n \n \n \n \n 
URL:https://associazionerossini.it/evento/associane-musicale-rossini-in-occasione-del-giorno-della-memoria-2023-olivier-massiaen-le-merle-noire-e-quatuor-pour-la-fin-du-temps/
LOCATION:Sala Stella Maris\, piazza Pippo Rebagliati\, 2\, Savona\, 17100\, Italia
CATEGORIES:Concerti,Conferenza con audizione,Mostra
END:VEVENT
BEGIN:VEVENT
DTSTART;TZID=Europe/Rome:20230121T173000
DTEND;TZID=Europe/Rome:20230121T173000
DTSTAMP:20260421T043840
CREATED:20230111T092837Z
LAST-MODIFIED:20230111T151046Z
UID:2450-1674322200-1674322200@associazionerossini.it
SUMMARY:GIORNO DELLA MEMORIA 2023: due incontri alla Stella Maris per non dimenticare
DESCRIPTION:
URL:https://associazionerossini.it/evento/giorno-della-memoria-2023-due-incontri-alla-stella-maris-per-non-dimenticare/
LOCATION:Sala Stella Maris\, piazza Pippo Rebagliati\, 2\, Savona\, 17100\, Italia
CATEGORIES:Conferenza con audizione
END:VEVENT
BEGIN:VEVENT
DTSTART;TZID=Europe/Rome:20230120T173000
DTEND;TZID=Europe/Rome:20230120T173000
DTSTAMP:20260421T043840
CREATED:20230102T213934Z
LAST-MODIFIED:20230102T213934Z
UID:2434-1674235800-1674235800@associazionerossini.it
SUMMARY:L’Associazione Mozart ospita: Andrea Allegrini e Ilaria Costantini (pianoforte a quattro mani) nell'ambito de “I Pomeriggi della Mozart” presso la Sala Stella Maris"
DESCRIPTION:C.V. A. Allegrini e I. Costantini \nProgramma \nSponsor \nCome iscriversi
URL:https://associazionerossini.it/evento/lassociazione-mozart-ospita-andrea-allegrini-e-ilaria-costantini-pianoforte-a-quattro-mani-nellambito-de-i-pomeriggi-della-mozart-presso-la-sala-stella-maris/
LOCATION:Sala Stella Maris\, piazza Pippo Rebagliati\, 2\, Savona\, 17100\, Italia
CATEGORIES:Concerti
END:VEVENT
BEGIN:VEVENT
DTSTART;TZID=Europe/Rome:20230119T210000
DTEND;TZID=Europe/Rome:20230119T210000
DTSTAMP:20260421T043840
CREATED:20230111T174923Z
LAST-MODIFIED:20230112T085401Z
UID:2486-1674162000-1674162000@associazionerossini.it
SUMMARY:Associazione Rossini Stagione musicale 2023: Musiche da Film (Renato Procopio alla chitarra e Matteo Bariani al clarinetto) - Stella Maris (Savona)
DESCRIPTION:  \n\n\n\nCV Renato Procopio\nCV Matteo Bariani\nNote sul concerto\nProgramma\nSponsor
URL:https://associazionerossini.it/evento/associazione-rossini-stagione-musicale-2023-musiche-da-film-renato-procopio-alla-chitarra-e-matteo-baliani-al-clarinetto-stella-maris-savona/
LOCATION:Sala Stella Maris\, piazza Pippo Rebagliati\, 2\, Savona\, 17100\, Italia
CATEGORIES:Concerti
END:VEVENT
END:VCALENDAR