BEGIN:VCALENDAR
VERSION:2.0
PRODID:-//Associazione Musicale Rossini a.p.s. - Savona - ECPv6.15.11//NONSGML v1.0//EN
CALSCALE:GREGORIAN
METHOD:PUBLISH
X-WR-CALNAME:Associazione Musicale Rossini a.p.s. - Savona
X-ORIGINAL-URL:https://associazionerossini.it
X-WR-CALDESC:Eventi per Associazione Musicale Rossini a.p.s. - Savona
REFRESH-INTERVAL;VALUE=DURATION:PT1H
X-Robots-Tag:noindex
X-PUBLISHED-TTL:PT1H
BEGIN:VTIMEZONE
TZID:Europe/Rome
BEGIN:DAYLIGHT
TZOFFSETFROM:+0100
TZOFFSETTO:+0200
TZNAME:CEST
DTSTART:20220327T010000
END:DAYLIGHT
BEGIN:STANDARD
TZOFFSETFROM:+0200
TZOFFSETTO:+0100
TZNAME:CET
DTSTART:20221030T010000
END:STANDARD
BEGIN:DAYLIGHT
TZOFFSETFROM:+0100
TZOFFSETTO:+0200
TZNAME:CEST
DTSTART:20230326T010000
END:DAYLIGHT
BEGIN:STANDARD
TZOFFSETFROM:+0200
TZOFFSETTO:+0100
TZNAME:CET
DTSTART:20231029T010000
END:STANDARD
BEGIN:DAYLIGHT
TZOFFSETFROM:+0100
TZOFFSETTO:+0200
TZNAME:CEST
DTSTART:20240331T010000
END:DAYLIGHT
BEGIN:STANDARD
TZOFFSETFROM:+0200
TZOFFSETTO:+0100
TZNAME:CET
DTSTART:20241027T010000
END:STANDARD
END:VTIMEZONE
BEGIN:VEVENT
DTSTART;TZID=Europe/Rome:20230915T173000
DTEND;TZID=Europe/Rome:20230915T173000
DTSTAMP:20260420T202733
CREATED:20230911T074217Z
LAST-MODIFIED:20230911T074217Z
UID:5294-1694799000-1694799000@associazionerossini.it
SUMMARY:I pomeriggi della Mozart: "il salotto dell'800" Alessandro Buccini - violino e Eleonora Perolini - arpa (Oratorio dei santi Giovanni\, Giovanni Battista e Petronilla - Savona)
DESCRIPTION:Programma \nCV Artisti
URL:https://associazionerossini.it/evento/i-pomeriggi-della-mozart-il-salotto-dell800-alessandro-buccini-violino-e-eleonora-perolini-arpa-oratorio-dei-santi-giovanni-giovanni-battista-e-petronilla-savona/
LOCATION:Oratorio dei Santi Giovanni\, Giovanni Evangelista e Petronilla – via Guidobono (Savona)
CATEGORIES:Concerti
END:VEVENT
BEGIN:VEVENT
DTSTART;TZID=Europe/Rome:20230902T210000
DTEND;TZID=Europe/Rome:20230902T210000
DTSTAMP:20260420T202733
CREATED:20230713T155603Z
LAST-MODIFIED:20230713T155638Z
UID:5213-1693688400-1693688400@associazionerossini.it
SUMMARY:STAGIONE MUSICALE DI SASSELLO: XI stagione (dal 29 luglio al 2 settembre)
DESCRIPTION:
URL:https://associazionerossini.it/evento/stagione-musicale-di-sassello-xi-stagione-dal-29-luglio-al-2-settembre-2/
LOCATION:Sassello
CATEGORIES:Concerti
END:VEVENT
BEGIN:VEVENT
DTSTART;TZID=Europe/Rome:20230831T210000
DTEND;TZID=Europe/Rome:20230831T210000
DTSTAMP:20260420T202733
CREATED:20230826T092906Z
LAST-MODIFIED:20230828T133608Z
UID:5249-1693515600-1693515600@associazionerossini.it
SUMMARY:"Omaggio a Maria Callas" in collaborazione l'Associazione Spettacolo Cultura APS e il Coro Lirico Quadrivium di Genova (Chiesa di S. Andrea - Savona)
DESCRIPTION:  \nProgramma       Associazione e Coro      CV Marra     CV Bergamo     CV Cerboncini     CV De Stefano \n 
URL:https://associazionerossini.it/evento/omaggio-a-maria-callas-in-collaborazione-lassociazione-spettacolo-cultura-aps-e-il-coro-lirico-quadrivium-di-genova-chiesa-di-s-andrea-savona/
LOCATION:Chiesa di S. Andrea – Savona\, piazza dei Consoli del Comune\, Savona\, Savona\, 17100\, Italia
CATEGORIES:Concerti
END:VEVENT
BEGIN:VEVENT
DTSTART;TZID=Europe/Rome:20230824T210000
DTEND;TZID=Europe/Rome:20230824T210000
DTSTAMP:20260420T202733
CREATED:20230713T162652Z
LAST-MODIFIED:20230713T162652Z
UID:5239-1692910800-1692910800@associazionerossini.it
SUMMARY:STAGIONE MUSICALE DI SASSELLO: XI stagione (dal 29 luglio al 2 settembre)
DESCRIPTION:
URL:https://associazionerossini.it/evento/stagione-musicale-di-sassello-xi-stagione-dal-29-luglio-al-2-settembre-7/
LOCATION:Sassello
CATEGORIES:Concerti
END:VEVENT
BEGIN:VEVENT
DTSTART;TZID=Europe/Rome:20230817T210000
DTEND;TZID=Europe/Rome:20230817T210000
DTSTAMP:20260420T202733
CREATED:20230713T161920Z
LAST-MODIFIED:20230713T161920Z
UID:5235-1692306000-1692306000@associazionerossini.it
SUMMARY:STAGIONE MUSICALE DI SASSELLO: XI stagione (dal 29 luglio al 2 settembre)
DESCRIPTION:
URL:https://associazionerossini.it/evento/stagione-musicale-di-sassello-xi-stagione-dal-29-luglio-al-2-settembre-6/
LOCATION:Sassello
CATEGORIES:Concerti
END:VEVENT
BEGIN:VEVENT
DTSTART;TZID=Europe/Rome:20230810T210000
DTEND;TZID=Europe/Rome:20230810T210000
DTSTAMP:20260420T202733
CREATED:20230713T161558Z
LAST-MODIFIED:20230713T161558Z
UID:5231-1691701200-1691701200@associazionerossini.it
SUMMARY:STAGIONE MUSICALE DI SASSELLO: XI stagione (dal 29 luglio al 2 settembre)
DESCRIPTION:
URL:https://associazionerossini.it/evento/stagione-musicale-di-sassello-xi-stagione-dal-29-luglio-al-2-settembre-5/
LOCATION:Sassello
CATEGORIES:Concerti
END:VEVENT
BEGIN:VEVENT
DTSTART;TZID=Europe/Rome:20230805T080000
DTEND;TZID=Europe/Rome:20230805T170000
DTSTAMP:20260420T202733
CREATED:20230713T161019Z
LAST-MODIFIED:20230713T161019Z
UID:5225-1691222400-1691254800@associazionerossini.it
SUMMARY:STAGIONE MUSICALE DI SASSELLO: XI stagione (dal 29 luglio al 2 settembre)
DESCRIPTION:
URL:https://associazionerossini.it/evento/stagione-musicale-di-sassello-xi-stagione-dal-29-luglio-al-2-settembre-4/
LOCATION:Sassello
CATEGORIES:Concerti
END:VEVENT
BEGIN:VEVENT
DTSTART;TZID=Europe/Rome:20230729T210000
DTEND;TZID=Europe/Rome:20230729T210000
DTSTAMP:20260420T202733
CREATED:20230713T160205Z
LAST-MODIFIED:20230713T160205Z
UID:5219-1690664400-1690664400@associazionerossini.it
SUMMARY:STAGIONE MUSICALE DI SASSELLO: XI stagione (dal 29 luglio al 2 settembre)
DESCRIPTION:
URL:https://associazionerossini.it/evento/stagione-musicale-di-sassello-xi-stagione-dal-29-luglio-al-2-settembre-3/
LOCATION:Sassello
CATEGORIES:Concerti
END:VEVENT
BEGIN:VEVENT
DTSTART;VALUE=DATE:20230713
DTEND;VALUE=DATE:20230714
DTSTAMP:20260420T202733
CREATED:20230713T154821Z
LAST-MODIFIED:20230713T163305Z
UID:5204-1689206400-1689292799@associazionerossini.it
SUMMARY:STAGIONE MUSICALE DI SASSELLO: XI stagione (dal 29 luglio al 2 settembre)
DESCRIPTION:Riceviamo e volentieri pubblicizziamo una iniziativa di alto livello… \n  \nProgramma Generale
URL:https://associazionerossini.it/evento/stagione-musicale-di-sassello-xi-stagione-dal-29-luglio-al-2-settembre/
LOCATION:Sassello
CATEGORIES:Concerti
END:VEVENT
BEGIN:VEVENT
DTSTART;TZID=Europe/Rome:20230625T210000
DTEND;TZID=Europe/Rome:20230625T210000
DTSTAMP:20260420T202733
CREATED:20230608T062940Z
LAST-MODIFIED:20230612T200337Z
UID:3847-1687726800-1687726800@associazionerossini.it
SUMMARY:L'Associazione Rossini presenta: facce del Romanticismo  (Joscha Zmarzlik baritono e Guido Bottaro pianoforte)  alla Sala Stella Maris - Savona
DESCRIPTION:  \nCV interpreti    Programma    Memorial don Silvio Delbuono
URL:https://associazionerossini.it/evento/lassociazione-rossini-presenta-facce-del-romanticismo-joscha-zmarzlik-baritono-e-guido-bottaro-pianoforte-alla-sala-stella-maris-savona/
LOCATION:Sala Stella Maris\, piazza Pippo Rebagliati\, 2\, Savona\, 17100\, Italia
CATEGORIES:Concerti
END:VEVENT
BEGIN:VEVENT
DTSTART;TZID=Europe/Rome:20230621T210000
DTEND;TZID=Europe/Rome:20230621T210000
DTSTAMP:20260420T202733
CREATED:20230603T150038Z
LAST-MODIFIED:20230609T081040Z
UID:3582-1687381200-1687381200@associazionerossini.it
SUMMARY:L'Associazione Rossini presenta: Trio Zahharrenkova (Sala Stella Maris - Savona)
DESCRIPTION:Curriculum del Trio Zahharrenkova     Note critiche     Programma      Notizie utili    
URL:https://associazionerossini.it/evento/lassociazione-rossini-presenta-trio-zahharrenkova-sala-stella-maris-savona/
LOCATION:Sala Stella Maris\, piazza Pippo Rebagliati\, 2\, Savona\, 17100\, Italia
CATEGORIES:Concerti
END:VEVENT
BEGIN:VEVENT
DTSTART;TZID=Europe/Rome:20230616T173000
DTEND;TZID=Europe/Rome:20230616T173000
DTSTAMP:20260420T202733
CREATED:20230604T215805Z
LAST-MODIFIED:20230604T215805Z
UID:3812-1686936600-1686936600@associazionerossini.it
SUMMARY:L’Associazione Mozart ospita: Gino Rapa\, con due nuovi libri\, nell'ambito de “I Pomeriggi della Mozart” presso la Sala Stella Maris-Savona
DESCRIPTION:Note sui libri e l’autore     sponsor e prenotazioni
URL:https://associazionerossini.it/evento/lassociazione-mozart-ospita-gino-rapa-con-due-nuovi-libri-nellambito-de-i-pomeriggi-della-mozart-presso-la-sala-stella-maris-savona/
LOCATION:Sala Stella Maris\, piazza Pippo Rebagliati\, 2\, Savona\, 17100\, Italia
CATEGORIES:Presentazione Libro
END:VEVENT
BEGIN:VEVENT
DTSTART;TZID=Europe/Rome:20230613T210000
DTEND;TZID=Europe/Rome:20230613T210000
DTSTAMP:20260420T202733
CREATED:20230604T205629Z
LAST-MODIFIED:20230604T205629Z
UID:3797-1686690000-1686690000@associazionerossini.it
SUMMARY:L'Associazione Rossini presenta Dina Pysarenko al pianoforte  (Sala Stella Maris - Savona)
DESCRIPTION:Programma      CV Dina Pysarenko     sito personale    informazioni utili 
URL:https://associazionerossini.it/evento/lassociazione-rossini-presenta-dina-pysarenko-al-pianoforte-sala-stella-maris-savona/
LOCATION:Sala Stella Maris\, piazza Pippo Rebagliati\, 2\, Savona\, 17100\, Italia
CATEGORIES:Concerti
END:VEVENT
BEGIN:VEVENT
DTSTART;TZID=Europe/Rome:20230609T173000
DTEND;TZID=Europe/Rome:20230611T173000
DTSTAMP:20260420T202733
CREATED:20230602T222826Z
LAST-MODIFIED:20230605T083202Z
UID:3565-1686331800-1686504600@associazionerossini.it
SUMMARY:Sulla rotta di Ulisse: suoni\, parole e riflessioni sull'immigrazione (incontri di giugno) a cura dell'Associazione Allegroconmoto
DESCRIPTION:Notizie utili    Programma dettagliato    Sponsor e altre informazioni   
URL:https://associazionerossini.it/evento/sulla-rotta-di-ulisse-suoni-parole-e-riflessioni-sullimmigrazione-incontri-di-giugno-a-cura-dellassociazione-allegroconmoto/
CATEGORIES:Concerti,Conferenza,Conferenza con audizione,Presentazione Libro
END:VEVENT
BEGIN:VEVENT
DTSTART;TZID=Europe/Rome:20230608T173000
DTEND;TZID=Europe/Rome:20230608T173000
DTSTAMP:20260420T202733
CREATED:20230602T214601Z
LAST-MODIFIED:20230602T230953Z
UID:3549-1686245400-1686245400@associazionerossini.it
SUMMARY:La Feltrinelli Point in collaborazione con Associazione Musicale Rossini: Marco Lombardi presenta il suo nuovo libro alla Stella Maris - Savona
DESCRIPTION:curriculum Marco Lombardi      Notizie utili     Note sul testo
URL:https://associazionerossini.it/evento/la-feltrinelli-point-in-collaborazione-con-associazione-musicale-rossini-marco-lombardi-presenta-il-suo-nuovo-libro-alla-stella-maris-savona/
LOCATION:Sala Stella Maris\, piazza Pippo Rebagliati\, 2\, Savona\, 17100\, Italia
CATEGORIES:Conferenza con audizione,Presentazione Libro
END:VEVENT
BEGIN:VEVENT
DTSTART;TZID=Europe/Rome:20230607T170000
DTEND;TZID=Europe/Rome:20230607T170000
DTSTAMP:20260420T202733
CREATED:20230602T211740Z
LAST-MODIFIED:20230602T211740Z
UID:3537-1686157200-1686157200@associazionerossini.it
SUMMARY:Un pomeriggio con Renata Scotto: incontro alla sala Stella Maris - Savona
DESCRIPTION:  \n \nscopo dell’incontro       Notizie utili
URL:https://associazionerossini.it/evento/un-pomeriggio-con-renata-scotto-incontro-alla-sala-stella-maris-savona/
LOCATION:Sala Stella Maris\, piazza Pippo Rebagliati\, 2\, Savona\, 17100\, Italia
CATEGORIES:Conferenza con audizione
END:VEVENT
BEGIN:VEVENT
DTSTART;TZID=Europe/Rome:20230530T180000
DTEND;TZID=Europe/Rome:20230530T180000
DTSTAMP:20260420T202733
CREATED:20230523T172334Z
LAST-MODIFIED:20230523T172334Z
UID:3099-1685469600-1685469600@associazionerossini.it
SUMMARY:Istituto di Cultura Italo-Tedesco/Goethe-Institut presenta: "LA BROCCA ROTTA" di Heinrich von Kleist [Regia\, riduzione e interpretazione di Gianfelice D'Accolti] Sala Stella Maris Savona
DESCRIPTION:  \nCurriculum Gianfelice D’Accolti   La trama    Informazioni
URL:https://associazionerossini.it/evento/istituto-di-cultura-italo-tedesco-goethe-institut-presenta-la-brocca-rotta-di-heinrich-von-kleist-regia-riduzione-e-interpretazione-di-gianfelice-daccolti-sala-stella-maris-savona/
LOCATION:Sala Stella Maris\, piazza Pippo Rebagliati\, 2\, Savona\, 17100\, Italia
CATEGORIES:Teatro
END:VEVENT
BEGIN:VEVENT
DTSTART;TZID=Europe/Rome:20230526T203000
DTEND;TZID=Europe/Rome:20230526T203000
DTSTAMP:20260420T202733
CREATED:20230523T221331Z
LAST-MODIFIED:20230523T221331Z
UID:3111-1685133000-1685133000@associazionerossini.it
SUMMARY:Associazione Musicale Dioniso: Accelerando Festival presenta Concerti di primavera (19 maggio-16 giugno) - Oratorio dei SS. Giovanni e Petronilla - Savona
DESCRIPTION:  \nProgramma completo   Avvisi Utili    Sponsor
URL:https://associazionerossini.it/evento/associazione-musicale-dioniso-accelerando-festival-presenta-concerti-di-primavera-19-maggio-16-giugno-oratorio-dei-ss-giovanni-e-petronilla-savona/
LOCATION:Oratorio dei Santi Giovanni\, Giovanni Evangelista e Petronilla – via Guidobono (Savona)
CATEGORIES:Concerti
END:VEVENT
BEGIN:VEVENT
DTSTART;TZID=Europe/Rome:20230525T170000
DTEND;TZID=Europe/Rome:20230525T170000
DTSTAMP:20260420T202733
CREATED:20230514T154023Z
LAST-MODIFIED:20230514T154023Z
UID:3055-1685034000-1685034000@associazionerossini.it
SUMMARY:S.M.E. (Student/Music/Enterprise): presso il Campus Universitario di Savona (loc. Legino)
DESCRIPTION:
URL:https://associazionerossini.it/evento/s-m-e-student-music-enterprise-presso-il-campus-universitario-di-savona-loc-legino/
LOCATION:Campus Universitario Savona – Legino
CATEGORIES:Concerti,Conferenza
END:VEVENT
BEGIN:VEVENT
DTSTART;TZID=Europe/Rome:20230523T204500
DTEND;TZID=Europe/Rome:20230523T204500
DTSTAMP:20260420T202733
CREATED:20230513T215944Z
LAST-MODIFIED:20230513T223817Z
UID:3026-1684874700-1684874700@associazionerossini.it
SUMMARY:L'Associazione Rossini presenta CARLO EMILIO GADDA: scritti e appunti savonesi (Sala Stella Maris - Savona)
DESCRIPTION:Notizie utili      Programma
URL:https://associazionerossini.it/evento/lassociazione-rossini-presenta-carlo-emilio-gadda-scritti-e-appunti-savonesi-sala-stella-maris-savona/
LOCATION:Sala Stella Maris\, piazza Pippo Rebagliati\, 2\, Savona\, 17100\, Italia
CATEGORIES:Conferenza,Presentazione Libro
END:VEVENT
BEGIN:VEVENT
DTSTART;TZID=Europe/Rome:20230522T203000
DTEND;TZID=Europe/Rome:20230522T203000
DTSTAMP:20260420T202733
CREATED:20230521T102530Z
LAST-MODIFIED:20230521T102757Z
UID:3073-1684787400-1684787400@associazionerossini.it
SUMMARY:Associazione Musicale Dioniso CONCERTO FINALE della Master class del M° Bellucci presso la Sala Stella Maris di Savona
DESCRIPTION:Notizie utili
URL:https://associazionerossini.it/evento/associazione-musicale-dioniso-concerto-finale-della-master-class-del-m-bellucci-presso-la-sala-stella-maris-di-savona/
LOCATION:Sala Stella Maris\, piazza Pippo Rebagliati\, 2\, Savona\, 17100\, Italia
CATEGORIES:Concerti
END:VEVENT
BEGIN:VEVENT
DTSTART;TZID=Europe/Rome:20230521T100000
DTEND;TZID=Europe/Rome:20230522T180000
DTSTAMP:20260420T202733
CREATED:20230521T101755Z
LAST-MODIFIED:20230521T102937Z
UID:3065-1684663200-1684778400@associazionerossini.it
SUMMARY:Associazione Musicale Dioniso : 35^ edizione dei Concerti di Primavera" Master class del M° Bellucci presso la Sala Stella Maris di Savona
DESCRIPTION: 
URL:https://associazionerossini.it/evento/associazione-musicale-dioniso-35-edizione-dei-concerti-di-primavera-master-class-del-m-bellucci-presso-la-sala-stella-maris-di-savona/
LOCATION:Sala Stella Maris\, piazza Pippo Rebagliati\, 2\, Savona\, 17100\, Italia
CATEGORIES:Master Class
END:VEVENT
BEGIN:VEVENT
DTSTART;TZID=Europe/Rome:20230520T080000
DTEND;TZID=Europe/Rome:20230522T170000
DTSTAMP:20260420T202733
CREATED:20230508T153551Z
LAST-MODIFIED:20230509T090206Z
UID:2988-1684569600-1684774800@associazionerossini.it
SUMMARY:Associazione Musicale Dioniso : 35^ edizione dei Concerti di Primavera" Master class del M° Bellucci presso la Sala Stella Maris di Savona
DESCRIPTION:  \nCV Giovanni Bellucci    Sponsor     Notizie utili
URL:https://associazionerossini.it/evento/accelerando-festival-35-edizione-dei-concerti-di-primavera-master-class-del-m-bellucci-presso-la-sala-stella-maris-di-savona/
LOCATION:Sala Stella Maris\, piazza Pippo Rebagliati\, 2\, Savona\, 17100\, Italia
CATEGORIES:Concerti,Master Class
END:VEVENT
BEGIN:VEVENT
DTSTART;TZID=Europe/Rome:20230519T203000
DTEND;TZID=Europe/Rome:20230519T203000
DTSTAMP:20260420T202733
CREATED:20230505T130957Z
LAST-MODIFIED:20230509T090122Z
UID:2964-1684528200-1684528200@associazionerossini.it
SUMMARY:Associazione Musicale Dioniso: 35^ edizione dei Concerti di Primavera "Concerto di inaugurazione" al Teatro Comunale "G. Chiabrera" GIOVANNI BELLUCCI pianoforte
DESCRIPTION:curriculum Giovanni Bellucci            Programma      Prenotazioni     Sponsor
URL:https://associazionerossini.it/evento/accelerando-festival-35-edizione-dei-concerti-di-primavera-concerto-di-inaugurazione-al-teatro-comunale-g-chiabrera-giovanni-bellucci-pianoforte/
LOCATION:Teatro Comunale “G. Chiabrera” – Savona
CATEGORIES:Concerti
END:VEVENT
BEGIN:VEVENT
DTSTART;TZID=Europe/Rome:20230518T203000
DTEND;TZID=Europe/Rome:20230518T203000
DTSTAMP:20260420T202733
CREATED:20230512T220904Z
LAST-MODIFIED:20230514T083221Z
UID:3005-1684441800-1684441800@associazionerossini.it
SUMMARY:L'Associazione Rossini presenta: CONCERTO JAZZ DEL "UNUSUAL QUINTET" alla Sala Stella Maris - Savona
DESCRIPTION:  \nPresentazione Unusual Quintet \n  \n  \n  \nCV dei Musicisti       Filosofia del gruppo      Programma    Notizie utili \n  \n  \n 
URL:https://associazionerossini.it/evento/lassociazione-rossini-presenta-concerto-jazz-del-unusual-quintet-alla-sala-stella-maris-savona/
LOCATION:Sala Stella Maris\, piazza Pippo Rebagliati\, 2\, Savona\, 17100\, Italia
CATEGORIES:Concerti
END:VEVENT
BEGIN:VEVENT
DTSTART;TZID=Europe/Rome:20230511T183000
DTEND;TZID=Europe/Rome:20230511T183000
DTSTAMP:20260420T202733
CREATED:20230501T074514Z
LAST-MODIFIED:20230501T074520Z
UID:2918-1683829800-1683829800@associazionerossini.it
SUMMARY:Suoni d'oriente: Silvia Schiaffino (flauto) e Renato Procopio (chitarra) alla Cappella Sistina di Savona
DESCRIPTION: per maggiori dettagli CLICCA QUI
URL:https://associazionerossini.it/evento/suoni-doriente-silvia-schiaffino-flauto-e-renato-procopio-chitarra-alla-cappella-sistina-di-savona/
LOCATION:Cappella Sistina di Savona
END:VEVENT
BEGIN:VEVENT
DTSTART;TZID=Europe/Rome:20230505T080000
DTEND;TZID=Europe/Rome:20230505T170000
DTSTAMP:20260420T202733
CREATED:20230502T221825Z
LAST-MODIFIED:20230502T221913Z
UID:2940-1683273600-1683306000@associazionerossini.it
SUMMARY:L’Associazione Mozart ospita: Paola Esposito (mandolino) e Francesca Ghilione (chitarra) nell'ambito de “I Pomeriggi della Mozart” presso l'Oratorio di via Guidobono-Savona
DESCRIPTION:  \ncurricula & programma       per saperne di più
URL:https://associazionerossini.it/evento/lassociazione-mozart-ospita-paola-esposito-mandolino-e-francesca-ghilione-chitarra-nellambito-de-i-pomeriggi-della-mozart-presso-loratorio-di-via-guidobono-savona/
LOCATION:Oratorio dei Santi Giovanni\, Giovanni Evangelista e Petronilla – via Guidobono (Savona)
CATEGORIES:Concerti
END:VEVENT
BEGIN:VEVENT
DTSTART;TZID=Europe/Rome:20230504T173000
DTEND;TZID=Europe/Rome:20230504T173000
DTSTAMP:20260420T202733
CREATED:20230426T165929Z
LAST-MODIFIED:20230503T214106Z
UID:2904-1683221400-1683221400@associazionerossini.it
SUMMARY:L'Associazione Rossini presenta: "La musica da camera di Robert e Clara Schumann “ (Silvia Schiaffino flauto - Martina Romano violoncello - Filippo Falchero Pianoforte) alla Sala Stella Maris - Savona
DESCRIPTION:iscrizione     Programma      Curricula
URL:https://associazionerossini.it/evento/lassociazione-rossini-presenta-la-musica-da-camera-di-robert-e-clara-schumann-silvia-schiaffino-flauto-martina-romano-violoncello-filippo-falchero-pianoforte-alla-sala-stella-mart/
LOCATION:Sala Stella Maris\, piazza Pippo Rebagliati\, 2\, Savona\, 17100\, Italia
CATEGORIES:Concerti
END:VEVENT
BEGIN:VEVENT
DTSTART;TZID=Europe/Rome:20230428T173000
DTEND;TZID=Europe/Rome:20230428T173000
DTSTAMP:20260420T202733
CREATED:20230425T201459Z
LAST-MODIFIED:20230425T201525Z
UID:2892-1682703000-1682703000@associazionerossini.it
SUMMARY:L’Associazione Mozart ospita: Manuela Matis (violino) e Donato Giupponi (organo) nell'ambito de “I Pomeriggi della Mozart” presso l'Oratorio di via Guidobono-Savona
DESCRIPTION:Curricula     Programma      per saperne di più
URL:https://associazionerossini.it/evento/lassociazione-mozart-ospita-manuela-matis-violino-e-donato-giupponi-organo-nellambito-de-i-pomeriggi-della-mozart-presso-loratorio-di-via-guidobono-savona/
LOCATION:Oratorio dei Santi Giovanni\, Giovanni Evangelista e Petronilla – via Guidobono (Savona)
CATEGORIES:Concerti
END:VEVENT
BEGIN:VEVENT
DTSTART;TZID=Europe/Rome:20230427T173000
DTEND;TZID=Europe/Rome:20230427T173000
DTSTAMP:20260420T202733
CREATED:20230422T212710Z
LAST-MODIFIED:20230423T202108Z
UID:2875-1682616600-1682616600@associazionerossini.it
SUMMARY:Associazione Rossini: Concerto “Music styles of the 20th century for Saxophone Quartet" alla Sala Stella Maris di Savona
DESCRIPTION:  \n  \nCurricola SaxUPO    Presentazione Quartetto SaxUPO     Programma     iscrizione    
URL:https://associazionerossini.it/evento/associazione-rossini-concerto-per-quattro-sassofoni-saxupo-universita-del-piemonte-occidentale-alla-sala-stella-maris-di-savona/
LOCATION:Sala Stella Maris\, piazza Pippo Rebagliati\, 2\, Savona\, 17100\, Italia
CATEGORIES:Concerti
END:VEVENT
END:VCALENDAR