BEGIN:VCALENDAR
VERSION:2.0
PRODID:-//Associazione Musicale Rossini a.p.s. - Savona - ECPv6.15.11//NONSGML v1.0//EN
CALSCALE:GREGORIAN
METHOD:PUBLISH
X-ORIGINAL-URL:https://associazionerossini.it
X-WR-CALDESC:Eventi per Associazione Musicale Rossini a.p.s. - Savona
REFRESH-INTERVAL;VALUE=DURATION:PT1H
X-Robots-Tag:noindex
X-PUBLISHED-TTL:PT1H
BEGIN:VTIMEZONE
TZID:Europe/Rome
BEGIN:DAYLIGHT
TZOFFSETFROM:+0100
TZOFFSETTO:+0200
TZNAME:CEST
DTSTART:20210328T010000
END:DAYLIGHT
BEGIN:STANDARD
TZOFFSETFROM:+0200
TZOFFSETTO:+0100
TZNAME:CET
DTSTART:20211031T010000
END:STANDARD
BEGIN:DAYLIGHT
TZOFFSETFROM:+0100
TZOFFSETTO:+0200
TZNAME:CEST
DTSTART:20220327T010000
END:DAYLIGHT
BEGIN:STANDARD
TZOFFSETFROM:+0200
TZOFFSETTO:+0100
TZNAME:CET
DTSTART:20221030T010000
END:STANDARD
BEGIN:DAYLIGHT
TZOFFSETFROM:+0100
TZOFFSETTO:+0200
TZNAME:CEST
DTSTART:20230326T010000
END:DAYLIGHT
BEGIN:STANDARD
TZOFFSETFROM:+0200
TZOFFSETTO:+0100
TZNAME:CET
DTSTART:20231029T010000
END:STANDARD
BEGIN:DAYLIGHT
TZOFFSETFROM:+0100
TZOFFSETTO:+0200
TZNAME:CEST
DTSTART:20240331T010000
END:DAYLIGHT
BEGIN:STANDARD
TZOFFSETFROM:+0200
TZOFFSETTO:+0100
TZNAME:CET
DTSTART:20241027T010000
END:STANDARD
BEGIN:DAYLIGHT
TZOFFSETFROM:+0100
TZOFFSETTO:+0200
TZNAME:CEST
DTSTART:20250330T010000
END:DAYLIGHT
BEGIN:STANDARD
TZOFFSETFROM:+0200
TZOFFSETTO:+0100
TZNAME:CET
DTSTART:20251026T010000
END:STANDARD
END:VTIMEZONE
BEGIN:VEVENT
DTSTART;TZID=Europe/Rome:20240925T173000
DTEND;TZID=Europe/Rome:20240925T173000
DTSTAMP:20260420T125238
CREATED:20240921T074103Z
LAST-MODIFIED:20240921T074334Z
UID:6253-1727285400-1727285400@associazionerossini.it
SUMMARY:Associazione Musicale Rossini - presentazione libro di Fabio Patrone
DESCRIPTION:
URL:https://associazionerossini.it/evento/lassociazione-rossini-presenta/
LOCATION:Sala Stella Maris\, piazza Pippo Rebagliati\, 2\, Savona\, 17100\, Italia
CATEGORIES:Presentazione Libro
END:VEVENT
BEGIN:VEVENT
DTSTART;TZID=Europe/Rome:20240610T170000
DTEND;TZID=Europe/Rome:20240610T170000
DTSTAMP:20260420T125238
CREATED:20240522T155547Z
LAST-MODIFIED:20240522T155808Z
UID:6151-1718038800-1718038800@associazionerossini.it
SUMMARY:L'Associazione Rossini organizza un incontro con  Patrizia Petruccione e Riccardo Aicardi
DESCRIPTION:
URL:https://associazionerossini.it/evento/lassociazione-rossini-organizza-un-incontro-con-patrizia-petruccione-e-riccardo-aicardi/
LOCATION:Sala Stella Maris\, piazza Pippo Rebagliati\, 2\, Savona\, 17100\, Italia
CATEGORIES:Presentazione Libro
END:VEVENT
BEGIN:VEVENT
DTSTART;TZID=Europe/Rome:20230616T173000
DTEND;TZID=Europe/Rome:20230616T173000
DTSTAMP:20260420T125238
CREATED:20230604T215805Z
LAST-MODIFIED:20230604T215805Z
UID:3812-1686936600-1686936600@associazionerossini.it
SUMMARY:L’Associazione Mozart ospita: Gino Rapa\, con due nuovi libri\, nell'ambito de “I Pomeriggi della Mozart” presso la Sala Stella Maris-Savona
DESCRIPTION:Note sui libri e l’autore     sponsor e prenotazioni
URL:https://associazionerossini.it/evento/lassociazione-mozart-ospita-gino-rapa-con-due-nuovi-libri-nellambito-de-i-pomeriggi-della-mozart-presso-la-sala-stella-maris-savona/
LOCATION:Sala Stella Maris\, piazza Pippo Rebagliati\, 2\, Savona\, 17100\, Italia
CATEGORIES:Presentazione Libro
END:VEVENT
BEGIN:VEVENT
DTSTART;TZID=Europe/Rome:20230609T173000
DTEND;TZID=Europe/Rome:20230611T173000
DTSTAMP:20260420T125238
CREATED:20230602T222826Z
LAST-MODIFIED:20230605T083202Z
UID:3565-1686331800-1686504600@associazionerossini.it
SUMMARY:Sulla rotta di Ulisse: suoni\, parole e riflessioni sull'immigrazione (incontri di giugno) a cura dell'Associazione Allegroconmoto
DESCRIPTION:Notizie utili    Programma dettagliato    Sponsor e altre informazioni   
URL:https://associazionerossini.it/evento/sulla-rotta-di-ulisse-suoni-parole-e-riflessioni-sullimmigrazione-incontri-di-giugno-a-cura-dellassociazione-allegroconmoto/
CATEGORIES:Concerti,Conferenza,Conferenza con audizione,Presentazione Libro
END:VEVENT
BEGIN:VEVENT
DTSTART;TZID=Europe/Rome:20230608T173000
DTEND;TZID=Europe/Rome:20230608T173000
DTSTAMP:20260420T125238
CREATED:20230602T214601Z
LAST-MODIFIED:20230602T230953Z
UID:3549-1686245400-1686245400@associazionerossini.it
SUMMARY:La Feltrinelli Point in collaborazione con Associazione Musicale Rossini: Marco Lombardi presenta il suo nuovo libro alla Stella Maris - Savona
DESCRIPTION:curriculum Marco Lombardi      Notizie utili     Note sul testo
URL:https://associazionerossini.it/evento/la-feltrinelli-point-in-collaborazione-con-associazione-musicale-rossini-marco-lombardi-presenta-il-suo-nuovo-libro-alla-stella-maris-savona/
LOCATION:Sala Stella Maris\, piazza Pippo Rebagliati\, 2\, Savona\, 17100\, Italia
CATEGORIES:Conferenza con audizione,Presentazione Libro
END:VEVENT
BEGIN:VEVENT
DTSTART;TZID=Europe/Rome:20230523T204500
DTEND;TZID=Europe/Rome:20230523T204500
DTSTAMP:20260420T125238
CREATED:20230513T215944Z
LAST-MODIFIED:20230513T223817Z
UID:3026-1684874700-1684874700@associazionerossini.it
SUMMARY:L'Associazione Rossini presenta CARLO EMILIO GADDA: scritti e appunti savonesi (Sala Stella Maris - Savona)
DESCRIPTION:Notizie utili      Programma
URL:https://associazionerossini.it/evento/lassociazione-rossini-presenta-carlo-emilio-gadda-scritti-e-appunti-savonesi-sala-stella-maris-savona/
LOCATION:Sala Stella Maris\, piazza Pippo Rebagliati\, 2\, Savona\, 17100\, Italia
CATEGORIES:Conferenza,Presentazione Libro
END:VEVENT
BEGIN:VEVENT
DTSTART;TZID=Europe/Rome:20230406T173000
DTEND;TZID=Europe/Rome:20230406T173000
DTSTAMP:20260420T125238
CREATED:20230331T211312Z
LAST-MODIFIED:20230403T214123Z
UID:2812-1680802200-1680802200@associazionerossini.it
SUMMARY:L'Associazione Rossini in collaborazione con Feltrinelli Point-Savona: presentazione del libro "La Religione dei Romani" di Federico Santangelo (Sala Stella Maris - Savona)
DESCRIPTION:curriculum        presentazione del libro    pubblicazioni  
URL:https://associazionerossini.it/evento/lassociazione-rossini-in-collaborazione-con-feltrinelli-point-savona-presentazione-del-libro-la-religione-dei-romani-di-federico-santangelo-sala-stella-maris-savona/
LOCATION:Sala Stella Maris\, piazza Pippo Rebagliati\, 2\, Savona\, 17100\, Italia
CATEGORIES:Conferenza,Presentazione Libro
END:VEVENT
BEGIN:VEVENT
DTSTART;TZID=Europe/Rome:20230225T173000
DTEND;TZID=Europe/Rome:20230225T173000
DTSTAMP:20260420T125238
CREATED:20230117T005949Z
LAST-MODIFIED:20230215T151929Z
UID:2545-1677346200-1677346200@associazionerossini.it
SUMMARY:Jacopo Marchisio presenta il libro "De Bello Pucciniano" di Marco Reghezza (Sala Stella Maris - Savona)
DESCRIPTION:   \nCV Autore    Recensione critica    CV Cantante     CV Pianista \n 
URL:https://associazionerossini.it/evento/jacopo-marchisio-presenta-il-libro-de-bello-pucciniano-di-marco-reghezza-sala-stella-maris-savona/
LOCATION:Sala Stella Maris\, piazza Pippo Rebagliati\, 2\, Savona\, 17100\, Italia
CATEGORIES:Conferenza con audizione,Presentazione Libro
END:VEVENT
BEGIN:VEVENT
DTSTART;TZID=Europe/Rome:20221122T173000
DTEND;TZID=Europe/Rome:20221122T173000
DTSTAMP:20260420T125238
CREATED:20221102T221444Z
LAST-MODIFIED:20221123T211642Z
UID:2325-1669138200-1669138200@associazionerossini.it
SUMMARY:Presentazione Libro: Vitigni e Vini d'Italia di Franco Savasta (Sala Stella Maris - Savona)
DESCRIPTION:CV Franco Savasta\nFranz Haas: Presentazione del Libro
URL:https://associazionerossini.it/evento/presentazione-libro-vitigni-e-vini-ditalia-di-franco-savasta-sala-stella-maris-savona/
LOCATION:Sala Stella Maris\, piazza Pippo Rebagliati\, 2\, Savona\, 17100\, Italia
CATEGORIES:Conferenza,Presentazione Libro
ATTACH;FMTTYPE=image/jpeg:https://associazionerossini.it/wp-content/uploads/2022/05/eseguio-e1660855867368.jpg
END:VEVENT
END:VCALENDAR