BEGIN:VCALENDAR
VERSION:2.0
PRODID:-//Associazione Musicale Rossini a.p.s. - Savona - ECPv6.15.11//NONSGML v1.0//EN
CALSCALE:GREGORIAN
METHOD:PUBLISH
X-ORIGINAL-URL:https://associazionerossini.it
X-WR-CALDESC:Eventi per Associazione Musicale Rossini a.p.s. - Savona
REFRESH-INTERVAL;VALUE=DURATION:PT1H
X-Robots-Tag:noindex
X-PUBLISHED-TTL:PT1H
BEGIN:VTIMEZONE
TZID:Europe/Rome
BEGIN:DAYLIGHT
TZOFFSETFROM:+0100
TZOFFSETTO:+0200
TZNAME:CEST
DTSTART:20210328T010000
END:DAYLIGHT
BEGIN:STANDARD
TZOFFSETFROM:+0200
TZOFFSETTO:+0100
TZNAME:CET
DTSTART:20211031T010000
END:STANDARD
BEGIN:DAYLIGHT
TZOFFSETFROM:+0100
TZOFFSETTO:+0200
TZNAME:CEST
DTSTART:20220327T010000
END:DAYLIGHT
BEGIN:STANDARD
TZOFFSETFROM:+0200
TZOFFSETTO:+0100
TZNAME:CET
DTSTART:20221030T010000
END:STANDARD
BEGIN:DAYLIGHT
TZOFFSETFROM:+0100
TZOFFSETTO:+0200
TZNAME:CEST
DTSTART:20230326T010000
END:DAYLIGHT
BEGIN:STANDARD
TZOFFSETFROM:+0200
TZOFFSETTO:+0100
TZNAME:CET
DTSTART:20231029T010000
END:STANDARD
BEGIN:DAYLIGHT
TZOFFSETFROM:+0100
TZOFFSETTO:+0200
TZNAME:CEST
DTSTART:20240331T010000
END:DAYLIGHT
BEGIN:STANDARD
TZOFFSETFROM:+0200
TZOFFSETTO:+0100
TZNAME:CET
DTSTART:20241027T010000
END:STANDARD
END:VTIMEZONE
BEGIN:VEVENT
DTSTART;TZID=Europe/Rome:20230221T173000
DTEND;TZID=Europe/Rome:20230221T173000
DTSTAMP:20260420T081026
CREATED:20230216T232756Z
LAST-MODIFIED:20230217T093301Z
UID:2721-1677000600-1677000600@associazionerossini.it
SUMMARY:Associazione Rossini: presentazione dell'opera "POWDER HER FACE"  di THOMAS ADES (commento di Jacopo Marchisio e Sergio Tortarolo) Sala Stella Maris - Savona
DESCRIPTION:  \nQualche notizia      Dettagli e proposta
URL:https://associazionerossini.it/evento/associazione-rossini-presentazione-dellopera-powder-her-face-di-thomas-ades-commento-di-jacopo-marchisio-e-sergio-tortaro-sala-stella-maris-savona/
LOCATION:Sala Stella Maris\, piazza Pippo Rebagliati\, 2\, Savona\, 17100\, Italia
CATEGORIES:Conferenza con audizione
END:VEVENT
BEGIN:VEVENT
DTSTART;TZID=Europe/Rome:20230217T170000
DTEND;TZID=Europe/Rome:20230217T190000
DTSTAMP:20260420T081026
CREATED:20230211T211422Z
LAST-MODIFIED:20230211T211422Z
UID:2687-1676653200-1676660400@associazionerossini.it
SUMMARY:ICIT (Istituto di Cultura Italo-Tedesco) presenta: Invito al cinema tedesco (Sala Stella Maris - Savona)
DESCRIPTION:  \nTrama del film        Iscrizione
URL:https://associazionerossini.it/evento/icit-istituto-di-cultura-italo-tedesco-presenta-invito-al-cinema-tedesco-sala-stella-maris-savona-2/
LOCATION:Sala Stella Maris\, piazza Pippo Rebagliati\, 2\, Savona\, 17100\, Italia
CATEGORIES:Conferenza con audizione,Proiezione film
END:VEVENT
BEGIN:VEVENT
DTSTART;TZID=Europe/Rome:20230215T170000
DTEND;TZID=Europe/Rome:20230215T190000
DTSTAMP:20260420T081026
CREATED:20230211T165525Z
LAST-MODIFIED:20230211T165525Z
UID:2669-1676480400-1676487600@associazionerossini.it
SUMMARY:ICIT (Istituto di Cultura Italo-Tedesco) presenta: Invito al cinema tedesco (Sala Stella Maris - Savona)
DESCRIPTION:  \nRecensione del film       Prenotazioni
URL:https://associazionerossini.it/evento/icit-istituto-di-cultura-italo-tedesco-presenta-invito-al-cinema-tedesco-sala-stella-maris-savona/
LOCATION:Sala Stella Maris\, piazza Pippo Rebagliati\, 2\, Savona\, 17100\, Italia
CATEGORIES:Conferenza con audizione
END:VEVENT
BEGIN:VEVENT
DTSTART;TZID=Europe/Rome:20230126T173000
DTEND;TZID=Europe/Rome:20230126T173000
DTSTAMP:20260420T081026
CREATED:20230116T143544Z
LAST-MODIFIED:20230125T083831Z
UID:2516-1674754200-1674754200@associazionerossini.it
SUMMARY:Associazione Musicale Rossini - In occasione del "Giorno della Memoria 2023": Olivier Messiaen "Le Merle Noir" e "Quatuor pour la fin du temps"
DESCRIPTION: \n\n\n\n\naggiornamento in corso: controllare il sito giornalmente\n\n\n\n \n\n\n\nCV Interpreti\nProgramma concerto\nCV Olivier Messiaen\nCV Marco Lombardi\nGiornata 2023\nSponsor\n\n\n \n \n \n \n \n 
URL:https://associazionerossini.it/evento/associane-musicale-rossini-in-occasione-del-giorno-della-memoria-2023-olivier-massiaen-le-merle-noire-e-quatuor-pour-la-fin-du-temps/
LOCATION:Sala Stella Maris\, piazza Pippo Rebagliati\, 2\, Savona\, 17100\, Italia
CATEGORIES:Concerti,Conferenza con audizione,Mostra
END:VEVENT
BEGIN:VEVENT
DTSTART;TZID=Europe/Rome:20230121T173000
DTEND;TZID=Europe/Rome:20230121T173000
DTSTAMP:20260420T081026
CREATED:20230111T092837Z
LAST-MODIFIED:20230111T151046Z
UID:2450-1674322200-1674322200@associazionerossini.it
SUMMARY:GIORNO DELLA MEMORIA 2023: due incontri alla Stella Maris per non dimenticare
DESCRIPTION:
URL:https://associazionerossini.it/evento/giorno-della-memoria-2023-due-incontri-alla-stella-maris-per-non-dimenticare/
LOCATION:Sala Stella Maris\, piazza Pippo Rebagliati\, 2\, Savona\, 17100\, Italia
CATEGORIES:Conferenza con audizione
END:VEVENT
BEGIN:VEVENT
DTSTART;TZID=Europe/Rome:20221112T173000
DTEND;TZID=Europe/Rome:20221112T173000
DTSTAMP:20260420T081026
CREATED:20220930T222356Z
LAST-MODIFIED:20221117T080053Z
UID:2137-1668274200-1668274200@associazionerossini.it
SUMMARY:L'Associazione Musicale "Rossini" invita alla conferenza-concerto sul tema: "La canzone dei ricordi" (Sala Stella Maris - Savona)
DESCRIPTION:  \n  \n   \n                                                                         Pagliara e Martucci    Aldo Ferraris    Stella Doz    Lucio Cuomo \nla canzone dei ricordi               
URL:https://associazionerossini.it/evento/lassociazione-musicale-rossini-invita-alla-conferenza-concerto-sul-tema-la-canzone-dei-ricordi-alla-sala-stella-maris-savona/
LOCATION:Sala Stella Maris\, piazza Pippo Rebagliati\, 2\, Savona\, 17100\, Italia
CATEGORIES:Conferenza con audizione
ATTACH;FMTTYPE=image/jpeg:https://associazionerossini.it/wp-content/uploads/2022/05/eseguio-e1660855867368.jpg
END:VEVENT
BEGIN:VEVENT
DTSTART;TZID=Europe/Rome:20221023T210000
DTEND;TZID=Europe/Rome:20221023T210000
DTSTAMP:20260420T081026
CREATED:20220923T201307Z
LAST-MODIFIED:20221024T084957Z
UID:2050-1666558800-1666558800@associazionerossini.it
SUMMARY:L'Associazione Rossini ospita l'Ensemble Nuove Musiche per la conferenza-concerto "Exotica" alla Stella Maris di Savona
DESCRIPTION:  \n  \nNotizie su “Exotica”    Stefano Leoni    Elisabetta Vaccaroni e strumentisti        \n 
URL:https://associazionerossini.it/evento/lassociazione-rossini-ospita-lensemble-nuove-musiche-alla-stella-maris-di-savona-2/
LOCATION:Sala Stella Maris\, piazza Pippo Rebagliati\, 2\, Savona\, 17100\, Italia
CATEGORIES:Conferenza con audizione
ATTACH;FMTTYPE=image/jpeg:https://associazionerossini.it/wp-content/uploads/2022/05/eseguio-e1660855867368.jpg
END:VEVENT
END:VCALENDAR