BEGIN:VCALENDAR
VERSION:2.0
PRODID:-//Associazione Musicale Rossini a.p.s. - Savona - ECPv6.15.11//NONSGML v1.0//EN
CALSCALE:GREGORIAN
METHOD:PUBLISH
X-WR-CALNAME:Associazione Musicale Rossini a.p.s. - Savona
X-ORIGINAL-URL:https://associazionerossini.it
X-WR-CALDESC:Eventi per Associazione Musicale Rossini a.p.s. - Savona
REFRESH-INTERVAL;VALUE=DURATION:PT1H
X-Robots-Tag:noindex
X-PUBLISHED-TTL:PT1H
BEGIN:VTIMEZONE
TZID:Europe/Rome
BEGIN:DAYLIGHT
TZOFFSETFROM:+0100
TZOFFSETTO:+0200
TZNAME:CEST
DTSTART:20250330T010000
END:DAYLIGHT
BEGIN:STANDARD
TZOFFSETFROM:+0200
TZOFFSETTO:+0100
TZNAME:CET
DTSTART:20251026T010000
END:STANDARD
BEGIN:DAYLIGHT
TZOFFSETFROM:+0100
TZOFFSETTO:+0200
TZNAME:CEST
DTSTART:20260329T010000
END:DAYLIGHT
BEGIN:STANDARD
TZOFFSETFROM:+0200
TZOFFSETTO:+0100
TZNAME:CET
DTSTART:20261025T010000
END:STANDARD
BEGIN:DAYLIGHT
TZOFFSETFROM:+0100
TZOFFSETTO:+0200
TZNAME:CEST
DTSTART:20270328T010000
END:DAYLIGHT
BEGIN:STANDARD
TZOFFSETFROM:+0200
TZOFFSETTO:+0100
TZNAME:CET
DTSTART:20271031T010000
END:STANDARD
END:VTIMEZONE
BEGIN:VEVENT
DTSTART;TZID=Europe/Rome:20260525T173000
DTEND;TZID=Europe/Rome:20260525T173000
DTSTAMP:20260420T041950
CREATED:20250928T130004Z
LAST-MODIFIED:20250928T130004Z
UID:7063-1779730200-1779730200@associazionerossini.it
SUMMARY:Associazione Musicale Rossini: "Musica e Poesia" con Valeria Saladino (soprano) Jacopo Marchisio (voce recitante) Filippo Falchero (pianoforte)
DESCRIPTION:
URL:https://associazionerossini.it/evento/associazione-musicale-rossini-musica-e-poesia-con-valeria-saladino-soprano-jacopo-marchisio-voce-recitante-filippo-falchero-pianoforte/
LOCATION:Sala Stella Maris\, piazza Pippo Rebagliati\, 2\, Savona\, 17100\, Italia
CATEGORIES:Concerti
END:VEVENT
END:VCALENDAR